BEGIN:VCALENDAR
VERSION:2.0
PRODID:-//Apple Inc.//iCal 5.0.2//EN
CALSCALE:GREGORIAN
BEGIN:VTIMEZONE
TZID:Australia/
BEGIN:STANDARD
TZOFFSETFROM:+1100
RRULE:FREQ=YEARLY;BYMONTH=4;BYDAY=1SU
DTSTART:20080406T030000
TZNAME:
TZOFFSETTO:+
END:STANDARD
BEGIN:DAYLIGHT
TZOFFSETFROM:+
RRULE:FREQ=YEARLY;BYMONTH=10;BYDAY=1SU
DTSTART:20081005T020000
TZNAME:AEDT
TZOFFSETTO:+1100
END:DAYLIGHT
END:VTIMEZONE
BEGIN:VEVENT
CREATED:20260425T022922
UID:Property20397168Inspection52744220
DTEND;TZID=Australia/:20200229T113000
TRANSP:OPAQUE
SUMMARY:Open For Inspection: 4/2 Powell Street, TWEED HEADS
DESCRIPTION:Stunning Boutique Block - One Per Floor - OPEN HOME THIS SATURDAY 21ST MARCH FROM 11:00 - 11:30 AM (NSW DST) 

Superbly situated in the highly sought-after Greenbank enclave, this immaculate North facing apartment promises an inspired lifestyle experience. 

Bright and spacious with lift access, this full floor apartment features open plan living boasting loads of natural sunlight. Sit back and enjoy the expansive balcony spaning the full length of the apartment with river glimpses.  

If comfort, ease and convenience is what you're looking for then look no further, with only a flat walk to the shores of Tweed River, Tweed Mall and Tweed Heads Hospital.

STAND OUT FEATURES:
- Open plan living with expansive balcony
- Spacious kitchen with near new gas cooktop and quality appliances
- Air conditioning throughout living and bedrooms
- Secure lift access opening to private foyer specially designed
- Main bedroom with walk in robe and extra cupboard storage
- Stunning ensuite with stone look bench tops serviced with bathtub
- Convenient study 
- Secure undercover parking with tandem car space

WHERE TO FROM HERE
- 1 minute walk to Tweed Heads Hospital
- 2 minute walk to Tweed Mall (Coles, Woolworths, Aldi & Target)
- 3 Minute walk to Tweed Heads Bowls Club
- Less than 2 minute walk to Tweed River with beautiful walkways through to Coolangatta
- 3 minutes to Twin Towns Services Club
- 3 minutes to Coolangatta
- 6 minutes to Tweed City Shopping Centre (Kmart, Big W & more plus movie theatre)
- 7 minutes to Gold Coast Airport
- 45 minutes to Byron Bay

THE FINER DETAILS
Rates- $2,602.33
Body Corporate- $146 per week
Rental Return- $695 - $725 per week
Built in 2016

To arrange an inspection please call Belinda Trotman 0412 881 818.
LAST-MODIFIED:20260425T022922
DTSTAMP:20260425T022922
DTSTART;TZID=Australia/:20200229T110000
LOCATION:4/2 Powell Street TWEED HEADS NSW 2485
URL:http://www.rbr.com.au/20397168
SEQUENCE:0
END:VEVENT
END:VCALENDAR
