BEGIN:VCALENDAR
VERSION:2.0
PRODID:-//Apple Inc.//iCal 5.0.2//EN
CALSCALE:GREGORIAN
BEGIN:VTIMEZONE
TZID:Australia/
BEGIN:STANDARD
TZOFFSETFROM:+1100
RRULE:FREQ=YEARLY;BYMONTH=4;BYDAY=1SU
DTSTART:20080406T030000
TZNAME:
TZOFFSETTO:+
END:STANDARD
BEGIN:DAYLIGHT
TZOFFSETFROM:+
RRULE:FREQ=YEARLY;BYMONTH=10;BYDAY=1SU
DTSTART:20081005T020000
TZNAME:AEDT
TZOFFSETTO:+1100
END:DAYLIGHT
END:VTIMEZONE
BEGIN:VEVENT
CREATED:20260425T015730
UID:Property20365948Inspection52744254
DTEND;TZID=Australia/:20200229T103000
TRANSP:OPAQUE
SUMMARY:Open For Inspection: 36 Old Ferry Road, Banora Point
DESCRIPTION:Privacy & Tranquility - This new house is set in the exclusive "Oxley Cove" offering privacy and tranquility. Recently completed in mid 2019, the modern home is located down a private driveway, in possibly one of Banora Point's best kept secrets.  

The home comprises of an open plan living, dining and kitchen area on the upper level of the home. The contemporary kitchen features a window splash back, quality appliances and finishes, plus an ample amount of cupboard and bench space.  Adjoining the living area is a 9-meter balcony, which captures the coastal breezes perfectly.  Whether you're entertaining with family and friends or unwinding at the end of the day, many hours will be spent out here, enjoying the leafy outlook and water glimpses.

There are three good sized bedrooms, including the master suite which enjoys water views, a walk in wardrobe and luxurious ensuite. The stylish family bathroom and ensuite are both complete with floor to ceiling tiles and double vanities, plus the ensuite features a unique shower design. 

The automatic garage accommodates two vehicles. There is also storage space both under the stairs and house. 

Bring your creative flair when if comes to the landscaping of this sloping block. 

WHERE TO FROM HERE? 
3.0 km to Banora Shopping Village 
3.1 km to Club Banora 
4.1 km to Tweed City Shopping Centre 
8.5 km to Coolangatta's shopping, dining & entertainment precinct 
9.0 km to Gold Coast Airport

THE FINER DETAILS
Land size: 785m2 
Build Completion Date: 2019 


** Please Note: This physical address for this property is 6/36 Old Ferry Road, Banora Point.  This is a freestanding home with neighbourhood association. 

For all enquires or to arrange a time to inspect this beautiful home, please contact Gavin Keith on 0438 243 441 or gavin@rbr.com.au

LAST-MODIFIED:20260425T015730
DTSTAMP:20260425T015730
DTSTART;TZID=Australia/:20200229T100000
LOCATION:36 Old Ferry Road Banora Point NSW 2486
URL:http://www.rbr.com.au/20365948
SEQUENCE:0
END:VEVENT
END:VCALENDAR
