BEGIN:VCALENDAR
VERSION:2.0
PRODID:-//Apple Inc.//iCal 5.0.2//EN
CALSCALE:GREGORIAN
BEGIN:VTIMEZONE
TZID:Australia/
BEGIN:STANDARD
TZOFFSETFROM:+1100
RRULE:FREQ=YEARLY;BYMONTH=4;BYDAY=1SU
DTSTART:20080406T030000
TZNAME:
TZOFFSETTO:+
END:STANDARD
BEGIN:DAYLIGHT
TZOFFSETFROM:+
RRULE:FREQ=YEARLY;BYMONTH=10;BYDAY=1SU
DTSTART:20081005T020000
TZNAME:AEDT
TZOFFSETTO:+1100
END:DAYLIGHT
END:VTIMEZONE
BEGIN:VEVENT
CREATED:20260425T021013
UID:Property18029875Inspection52744265
DTEND;TZID=Australia/:20200229T103000
TRANSP:OPAQUE
SUMMARY:Open For Inspection: 6/1 Tweed Street, COOLANGATTA
DESCRIPTION:Leave The Car At Home - Walk To Kirra Beach! - OPEN HOME CANCELLED - PLEASE CONTACT AGENT FOR DETAILS

Set in a quiet block of only 9, this superbly located two bedroom unit offers a relaxed beach side lifestyle. You can leave the car at home as this fantastic unit is located within walking distance of the golden sands of Kirra Beach, plus an array of dining, shopping and entertainment options.

The floorplan comprises of a light-filled, tidy kitchen featuring an ample amount of cupboard space.  There is an open plan living and dining area opening to the balcony, which captures the cool ocean breezes perfectly. 

There are two good size bedrooms, both with built in wardrobes. The main bedroom is air-conditioned and has balcony access.  

A combined laundry and bathroom, plus separate toilet complete the floorplan. 

Secure underground parking is available for 1.5 vehicles as the car space is 8M long, potentially fitting two smaller vehicles or one larger one.  There is also a lockable storage room exclusive to unit 6, which is ideal for storing bikes or surfboards.  

WHERE TO FROM HERE? 
4 minute walk to Kirra Beach 
5 minute walk to Kirra's dining precinct 
12 minute walk to The Strand, Coolangatta  
2 minute drive to Gold Coast Airport 
50 minute drive to Byron Bay 

THE FINER DETAILS
Body Corporate Levies: $43.50 per week (approx.)
Rental Return: $450 per week (approx.)
Rates: $1,685.60 per annum  (approx.) 

Whether you're after an investment property, holiday home or a property to enjoy all year-round, this unit is worthy of your inspection. Contact Gavin Keith on 0438 243 441 for more information, or to arrange your inspection.


LAST-MODIFIED:20260425T021013
DTSTAMP:20260425T021013
DTSTART;TZID=Australia/:20200229T100000
LOCATION:6/1 Tweed Street COOLANGATTA QLD 4225
URL:http://www.rbr.com.au/18029875
SEQUENCE:0
END:VEVENT
END:VCALENDAR
