BEGIN:VCALENDAR
VERSION:2.0
PRODID:-//Apple Inc.//iCal 5.0.2//EN
CALSCALE:GREGORIAN
BEGIN:VTIMEZONE
TZID:Australia/
BEGIN:STANDARD
TZOFFSETFROM:+1100
RRULE:FREQ=YEARLY;BYMONTH=4;BYDAY=1SU
DTSTART:20080406T030000
TZNAME:
TZOFFSETTO:+
END:STANDARD
BEGIN:DAYLIGHT
TZOFFSETFROM:+
RRULE:FREQ=YEARLY;BYMONTH=10;BYDAY=1SU
DTSTART:20081005T020000
TZNAME:AEDT
TZOFFSETTO:+1100
END:DAYLIGHT
END:VTIMEZONE
BEGIN:VEVENT
CREATED:20260425T015414
UID:Property20251896Inspection52744277
DTEND;TZID=Australia/:20200229T123000
TRANSP:OPAQUE
SUMMARY:Open For Inspection: 92 Caloola Drive, TWEED HEADS
DESCRIPTION:Less than 2km to the white sand of Kirra Beach.. - A rare opportunity presents itself here to purchase a fantastic family home in the highly sought-after Caloola Drive. Set on 636m2, the property is superbly located within minutes of the white sand of Coolangatta and Kirra and a plethora of restaurants, cafes and entertainment options.

Step inside and be delighted by the spacious floorplan, which incorporates functional family living perfectly. The neatly presented, single storey home comprises of an air-conditioned open plan kitchen, living and dining area offering an abundance of space. The chef of the family will love the modernized kitchen, which features plenty of cupboard and bench space, an electric cook top, dishwasher and pleasant outlook of the yard. 

There is also a second living area, allowing enough space for everyone to enjoy the home comfortably. 

The three well-proportioned bedrooms each feature ceiling fans and built in wardrobes.  The master bedroom enjoys a leafy outlook of the backyard and is complete with an ensuite and sizable walk in robe.  The family bathroom features 2-way access to the second bedroom.
 
The fully fenced, wrap around yard is large enough for the kids and pets to safely play, plus a children's playground is ideally located directly across the road.

The garage accommodates two vehicles and allows for internal access into the home. 


WHERE TO FROM HERE? 
1.9km to Kirra Beach 
1.7km to Kirra Sports Club 
2.6km to The Stand, Coolangatta 
2.8km to Tweed Mall 
2.9km to Twin Towns Services Club 
3.1km to Gold Coast Airport 


The owner has started packing boxes and is ready to move on!  For more information or to arrange an inspection, please contact Gavin Keith on 0438 243 441 or gavin@rbr.com.au.
LAST-MODIFIED:20260425T015414
DTSTAMP:20260425T015414
DTSTART;TZID=Australia/:20200229T120000
LOCATION:92 Caloola Drive TWEED HEADS NSW 2485
URL:http://www.rbr.com.au/20251896
SEQUENCE:0
END:VEVENT
END:VCALENDAR
