BEGIN:VCALENDAR
VERSION:2.0
PRODID:-//Apple Inc.//iCal 5.0.2//EN
CALSCALE:GREGORIAN
BEGIN:VTIMEZONE
TZID:Australia/
BEGIN:STANDARD
TZOFFSETFROM:+1100
RRULE:FREQ=YEARLY;BYMONTH=4;BYDAY=1SU
DTSTART:20080406T030000
TZNAME:
TZOFFSETTO:+
END:STANDARD
BEGIN:DAYLIGHT
TZOFFSETFROM:+
RRULE:FREQ=YEARLY;BYMONTH=10;BYDAY=1SU
DTSTART:20081005T020000
TZNAME:AEDT
TZOFFSETTO:+1100
END:DAYLIGHT
END:VTIMEZONE
BEGIN:VEVENT
CREATED:20260425T021021
UID:Property20392773Inspection52744282
DTEND;TZID=Australia/:20200229T103000
TRANSP:OPAQUE
SUMMARY:Open For Inspection: 3/3 Rose Street, TWEED HEADS WEST
DESCRIPTION:A BARGAIN TO BE HAD - First home buyers & investors pay attention! - Priced to sell - Set in a small block of only 3

This 2 story triplex is situated at the end of a cul de sac. Enjoying spacious open plan living, opening to a private courtyard, great for entertaining. Offering two bedrooms upstairs, main with a sunny balcony. Main bathroom upstairs, with the convenience of a second toilet downstairs.

STAND OUT FEATURES

- Carpeted open plan living and dining
- Fully renovated kitchen with modern fixtures & finishes
- Private sunny courtyard, great for entertaining
- Two bedrooms, main with balcony
- Spacious main bathroom
- Second toilet downstairs
- Separate laundry
- Single lock-up garage


THE FINER DETAILS

Body corp: $25.00 per week
Rental: $320.00 per week (approx)
Rates: $2,409.60 per annum (approx)
Water: $303.84 quarterly (approx)

WHERE TO FROM HERE

- 5 minute drive to Kirra Beach
- 6 minute drive to Tweed Mall
- 6 minute drive to Tweed Hospital
- 8 minute drive to Tweed Services Club
LAST-MODIFIED:20260425T021021
DTSTAMP:20260425T021021
DTSTART;TZID=Australia/:20200229T100000
LOCATION:3/3 Rose Street TWEED HEADS WEST NSW 2485
URL:http://www.rbr.com.au/20392773
SEQUENCE:0
END:VEVENT
END:VCALENDAR
