BEGIN:VCALENDAR
VERSION:2.0
PRODID:-//Apple Inc.//iCal 5.0.2//EN
CALSCALE:GREGORIAN
BEGIN:VTIMEZONE
TZID:Australia/
BEGIN:STANDARD
TZOFFSETFROM:+1100
RRULE:FREQ=YEARLY;BYMONTH=4;BYDAY=1SU
DTSTART:20080406T030000
TZNAME:
TZOFFSETTO:+
END:STANDARD
BEGIN:DAYLIGHT
TZOFFSETFROM:+
RRULE:FREQ=YEARLY;BYMONTH=10;BYDAY=1SU
DTSTART:20081005T020000
TZNAME:AEDT
TZOFFSETTO:+1100
END:DAYLIGHT
END:VTIMEZONE
BEGIN:VEVENT
CREATED:20260425T015814
UID:Property20420718Inspection52744929
DTEND;TZID=Australia/:20200229T140000
TRANSP:OPAQUE
SUMMARY:Open For Inspection: 29 Blighton Road, PITT TOWN
DESCRIPTION:CONTEMPORARY CONVENIENCE MEETS HIGH END GLAMOUR - Modern, sophisticated and polished, this near new four bedroom home is a stylish addition to upmarket Pitt Town. 

The open plan home is designed with ease and simplicity in mind. No expense has been spared in creating this dream family destination, and its many high-end features are a testament to that. There's the ultra modern kitchen with Caesarstone benchtops, a large butler's pantry and stunning pendant lighting. Also features "Meile" dishwasher, steam oven, 2 x ovens, induction cooktop and microwave. The luxurious freestanding bath. The designer swimming pool with water feature and timber decking. Gas heated for cooler months enables the pool to be enjoyed by everyone, all year round. The plush home theatre. The poolside al fresco entertaining area with outdoor kitchen and TV. All bedrooms are equipped with built-in robes, with the impressive master quarters boasting his-and-hers walk-in robes that adjoin a stunning ensuite. 

Security is another key at this contemporary abode. CCTV cameras and alarm cover the entire property, which features a coveted dual street frontage and rear access. 

With the Hawkesbury River just minutes away, this fully landscaped home is close to all that Pitt Town offers, including superb golf courses, restaurants, pubs, churches, shops and public transport. And with a breezy 60 minute commute into Sydney, you can indeed enjoy the best of both worlds. 


* 2,004sqm block
* Near new home built in 2017
* Four bedrooms
* Underfloor heating to both house bathrooms
* 2.7m ceilings at front of home, 3m ceilings at rear of home 
* Gas fireplace 
* Outdoor entertaining area with built-in BBQ, fridge and Bose sound system
* North facing backyard
* 7.5 kilowatt solar system
* Gas heater concrete inground swimming pool with water feature and New Zealand white quartz finish, plus surrounding timber deck 
* Actron air conditioning throughout, personally set temperatures in 4 different zones at once
* Auto-irrigation - operated by phone app
* Triple garage with internal access  
* Detached office + storage with granite kitchen & bathroom - make an ideal, guest quarters or separate accommodation (STCA)
* Colorbond roof
* Complete alarm system 
* Pitt Town landmarks and amenities in close proximity 
* Rouse Hill Town Centre + metro railway station just 15 minutes away
LAST-MODIFIED:20260425T015814
DTSTAMP:20260425T015814
DTSTART;TZID=Australia/:20200229T131500
LOCATION:29 Blighton Road PITT TOWN NSW 2756
URL:http://www.ranceproperty.com.au/20420718
SEQUENCE:0
END:VEVENT
END:VCALENDAR
