BEGIN:VCALENDAR
VERSION:2.0
PRODID:-//Apple Inc.//iCal 5.0.2//EN
CALSCALE:GREGORIAN
BEGIN:VTIMEZONE
TZID:Australia/
BEGIN:STANDARD
TZOFFSETFROM:+1100
RRULE:FREQ=YEARLY;BYMONTH=4;BYDAY=1SU
DTSTART:20080406T030000
TZNAME:
TZOFFSETTO:+
END:STANDARD
BEGIN:DAYLIGHT
TZOFFSETFROM:+
RRULE:FREQ=YEARLY;BYMONTH=10;BYDAY=1SU
DTSTART:20081005T020000
TZNAME:AEDT
TZOFFSETTO:+1100
END:DAYLIGHT
END:VTIMEZONE
BEGIN:VEVENT
CREATED:20260425T015817
UID:Property20386167Inspection52744933
DTEND;TZID=Australia/:20200229T114500
TRANSP:OPAQUE
SUMMARY:Open For Inspection: 5 Whitehall Road, KENTHURST
DESCRIPTION:ENTERTAIN POOLSIDE! - Owners have purchased elsewhere and invite all offers

Move your growing family to a premier neighbourhood with easy access to shops and prestigious schools, and enjoy a lifestyle many can only dream of. 

This immaculately presented dual level home is nestled on five acres of which 2 acres are cleared and usable, with the possibility to clear scrub to make more usable. Positioned on a quiet cul-de-sac, north to the rear, the four bedroom home also features a one bed granny flat/office, that is completely self-contained. 

The main home offers 4 bedrooms all with built in robes, master with walk in robe and ensuite. Generous living areas include formal lounge room with fireplace, formal dining room, study/home office, family room, meals area and upstairs TV nook for the kids. 

The separate granny flat/office offers, separate entrance, one bedroom with built in robe, bathroom, kitchen, living and meals area. 

Host guests on the tiled entertaining terrace that overlooks the inground swimming pool, or enjoy the sun on one of the homes many verandahs. There's even space to build a shed or tennis court - or both! 

The lucky new owners of this family home will enjoy easy access to all Hills hubs, including Kenthurst Village and Dural Shops which are just a few minutes away. Castle Hill and Rouse Hill - and their brand new Metro rail stations - are just a 10 minute drive. 

* 5 acres (two usable)
* 4 bedrooms 
* 3 bathrooms 
* 1 bed granny flat 
* Open plan kitchen, meals and family area 
* Several verandahs 
* Fully-fenced Inground swimming pool 
* Tiled entertaining terrace 
* Ducted air
* Auto entry gate and sealed driveway
* Potential (STCA) to thin out scrub at rear
* Exclusive Hills Grammar and Marian College both nearby
* Minutes to Kenthurst, Dural, Rouse Hill and Castle Hill 
* 50 minute commute to Sydney
LAST-MODIFIED:20260425T015817
DTSTAMP:20260425T015817
DTSTART;TZID=Australia/:20200229T110000
LOCATION:5 Whitehall Road KENTHURST NSW 2156
URL:http://www.ranceproperty.com.au/20386167
SEQUENCE:0
END:VEVENT
END:VCALENDAR
