BEGIN:VCALENDAR
VERSION:2.0
PRODID:-//Apple Inc.//iCal 5.0.2//EN
CALSCALE:GREGORIAN
BEGIN:VTIMEZONE
TZID:Australia/
BEGIN:STANDARD
TZOFFSETFROM:+1100
RRULE:FREQ=YEARLY;BYMONTH=4;BYDAY=1SU
DTSTART:20080406T030000
TZNAME:
TZOFFSETTO:+
END:STANDARD
BEGIN:DAYLIGHT
TZOFFSETFROM:+
RRULE:FREQ=YEARLY;BYMONTH=10;BYDAY=1SU
DTSTART:20081005T020000
TZNAME:AEDT
TZOFFSETTO:+1100
END:DAYLIGHT
END:VTIMEZONE
BEGIN:VEVENT
CREATED:20260425T015815
UID:Property20405584Inspection52745155
DTEND;TZID=Australia/:20200229T113000
TRANSP:OPAQUE
SUMMARY:Open For Inspection: 701/72 Civic Way, ROUSE HILL
DESCRIPTION:Conveniently situated in a "WALK TO EVERYTHING" Location - MANY BUYERS MISSED OUT LOOKING TO BUY IN ROUSE HILL IMMEDIATELY

IF YOU ARE THINKING OF SELLING, PLEASE CALL ME AS SOON AS POSSIBLE 0408 664 994.

Two bedroom unit located in Rouse Hill Town Centre.

A cosmopolitan lifestyle on your doorstep including, North West Rail, dining and shopping in every direction.

Spacious living and dining with a great modern kitchen plus balcony.

Secure undercover parking for 2 cars plus storage facility.

Access to gym, tennis court, pool and community hall.

Rare opportunity to secure this Real Estate offering - This must be sold!.


LAST-MODIFIED:20260425T015815
DTSTAMP:20260425T015815
DTSTART;TZID=Australia/:20200229T110000
LOCATION:701/72 Civic Way ROUSE HILL NSW 2155
URL:http://www.ranceproperty.com.au/20405584
SEQUENCE:0
END:VEVENT
END:VCALENDAR
