BEGIN:VCALENDAR
VERSION:2.0
PRODID:-//Apple Inc.//iCal 5.0.2//EN
CALSCALE:GREGORIAN
BEGIN:VTIMEZONE
TZID:Australia/
BEGIN:STANDARD
TZOFFSETFROM:+1100
RRULE:FREQ=YEARLY;BYMONTH=4;BYDAY=1SU
DTSTART:20080406T030000
TZNAME:
TZOFFSETTO:+
END:STANDARD
BEGIN:DAYLIGHT
TZOFFSETFROM:+
RRULE:FREQ=YEARLY;BYMONTH=10;BYDAY=1SU
DTSTART:20081005T020000
TZNAME:AEDT
TZOFFSETTO:+1100
END:DAYLIGHT
END:VTIMEZONE
BEGIN:VEVENT
CREATED:20260425T015818
UID:Property20415362Inspection52745158
DTEND;TZID=Australia/:20200229T133000
TRANSP:OPAQUE
SUMMARY:Open For Inspection: 11 Caritta Court, PARKLEA
DESCRIPTION:BEST BUY IN PARKLEA - PRICE REDUCED - Perfect single level home in a quiet cul-de-sac

Close to shopping centre, schools, parks and easy access to M7 and Norwest Metro Station.

3 bedrooms main with upgraded ensuite bathroom.

Alarm system, air conditioning, new security door and dishwasher.
 
Generous size kitchen with quality appliances and upgraded flooring.

Covered alfresco entertaining with plenty of room for family gatherings.

Location and value this home is a fantastic real estate offering. 

LAST-MODIFIED:20260425T015818
DTSTAMP:20260425T015818
DTSTART;TZID=Australia/:20200229T130000
LOCATION:11 Caritta Court PARKLEA NSW 2768
URL:http://www.ranceproperty.com.au/20415362
SEQUENCE:0
END:VEVENT
END:VCALENDAR
