BEGIN:VCALENDAR
VERSION:2.0
PRODID:-//Apple Inc.//iCal 5.0.2//EN
CALSCALE:GREGORIAN
BEGIN:VTIMEZONE
TZID:Australia/
BEGIN:STANDARD
TZOFFSETFROM:+1100
RRULE:FREQ=YEARLY;BYMONTH=4;BYDAY=1SU
DTSTART:20080406T030000
TZNAME:
TZOFFSETTO:+
END:STANDARD
BEGIN:DAYLIGHT
TZOFFSETFROM:+
RRULE:FREQ=YEARLY;BYMONTH=10;BYDAY=1SU
DTSTART:20081005T020000
TZNAME:AEDT
TZOFFSETTO:+1100
END:DAYLIGHT
END:VTIMEZONE
BEGIN:VEVENT
CREATED:20260425T020027
UID:Property20385094Inspection52745173
DTEND;TZID=Australia/:20200229T114500
TRANSP:OPAQUE
SUMMARY:Open For Inspection: 23 - 25 Porters Road, KENTHURST
DESCRIPTION:INSPECTIONS STILL POSSIBLE, PLEASE CONTACT OUR OFFICE TO BOOK A PRIVATE APPOINTMENT - TWO RESIDENCES + RESORT INSPIRED OUTDOOR LIFESTYLE

Yes.. finally this property is For Sale. 

This feature-packed property, complete with two independent homes, is ideal for a large family or for starting your dream home business from. Spanning three street frontages, this sprawling block is entirely grassed and usable, and promises a superior lifestyle. Includes manicured lawns, perfect gardens and also a pony paddock with shelter. 

The dual level main home boasts traditional high ceilings, five bedrooms, four bathrooms, a myriad of communal living and lounge rooms and a modern and stylish open plan kitchen and meals area. The master bedroom is equipped with a private balcony, walk-in robe and spa ensuite. The lower level guest bedroom is also equipped with an ensuite. Formal lounge room + formal dining room boast soaring 19ft ceilings - making this a fantastic feature. 

Up level your entertaining skill level on the spacious al fresco that overlooks the resort-style rear. There's a pool with kids waterslide and island-inspired thatched huts with seating. Kids parties will be easy to host thanks to the life-size Jurassic Park figurines. Fully landscaped, and with feature rockery - the pool and entertaining area is something to see.  

The single level secondary dwelling can be utilised as either another home or as the location of a home business, such as a doctors clinic, childcare facility or office space. It is entirely self-contained and features three bedrooms, three bathrooms, a range of living quarters, storage spaces and a garage that is currently set up for a salon.

Easy walk to Kenthurst Village Shops, School + amenities. Dural Shops and many exclusive schools, within a short commute. Rouse Hill, Cherrybrook and Castle Hill with larger Shopping precincts and newly opened Metro Rail Stations, all within a 15 minutes drive. 

* 5 acre property
* Close proximity to Kenthurst Village, Castle Hill, Cherrybrook and Rouse Hill 

Main home: 
* Five bedrooms (two with ensuite)
* Formal lounge + dining rooms 
* Rumpus with wet bar 
* Designer bathrooms
* Security system 
* Drive through garage with storage + workshop 
* Covered rear al fresco 

Second home: 
* Three bedrooms 
* Front + rear verandahs 
* Lounge and dining rooms 
* Kitchen + meals area 
* Potential for home business 
 
Exterior: 
* Inground lagoon-style swimming pool + spa
* Irrigated lawns and established gardens
* Shed with 3 phase power - near new
* Solar panels
* Dome pergola 
* Aviary
* Older shed
* Pony paddock with shelter
* 6 car garage
LAST-MODIFIED:20260425T020027
DTSTAMP:20260425T020027
DTSTART;TZID=Australia/:20200229T110000
LOCATION:23 - 25 Porters Road KENTHURST NSW 2156
URL:http://www.ranceproperty.com.au/20385094
SEQUENCE:0
END:VEVENT
END:VCALENDAR
