BEGIN:VCALENDAR
VERSION:2.0
PRODID:-//Apple Inc.//iCal 5.0.2//EN
CALSCALE:GREGORIAN
BEGIN:VTIMEZONE
TZID:Australia/
BEGIN:STANDARD
TZOFFSETFROM:+1100
RRULE:FREQ=YEARLY;BYMONTH=4;BYDAY=1SU
DTSTART:20080406T030000
TZNAME:
TZOFFSETTO:+
END:STANDARD
BEGIN:DAYLIGHT
TZOFFSETFROM:+
RRULE:FREQ=YEARLY;BYMONTH=10;BYDAY=1SU
DTSTART:20081005T020000
TZNAME:AEDT
TZOFFSETTO:+1100
END:DAYLIGHT
END:VTIMEZONE
BEGIN:VEVENT
CREATED:20260425T024107
UID:Property20134854Inspection51676900
DTEND;TZID=Australia/:20190302T133000
TRANSP:OPAQUE
SUMMARY:Open For Inspection: 79-83 Mcdonagh Road, WYONG
DESCRIPTION:River Front Living on Level 2.7 Acres - This lovely property will appeal to those buyers who are seeking absolute riverfront living, with direct deep water access via sea wall jetty and boat ramp.

Features include:
- Modern 3 bedroom home with 2 bathrooms and double drive through garage
- Huge 3 bay triple garage shed with high roof line ideal for storage, large vehicles and earth moving machinery plus lots more
- Large upstairs veranda offering striking river views, just brilliant for family entertaining
- Multiple water tanks and superb acres on a level block
- Reverse cycle air conditioning

10 minutes drive to M1, Westfields shopping, Wyong Hospital and only 5 minutes to Wyong station

Note: Virtual furniture has been added for display purposes only.

E & OE. Please note that all information herein is gathered from sources we believe to be reliable, however Capital One Real Estate cannot guarantee its accuracy and interested parties should rely on their own enquiries. All images are indicative of the property only.
LAST-MODIFIED:20260425T024107
DTSTAMP:20260425T024107
DTSTART;TZID=Australia/:20190302T130000
LOCATION:79-83 Mcdonagh Road WYONG NSW 2259
URL:http://www.capitalone.com.au/20134854
SEQUENCE:0
END:VEVENT
END:VCALENDAR
