BEGIN:VCALENDAR
VERSION:2.0
PRODID:-//Apple Inc.//iCal 5.0.2//EN
CALSCALE:GREGORIAN
BEGIN:VTIMEZONE
TZID:Australia/
BEGIN:STANDARD
TZOFFSETFROM:+1100
RRULE:FREQ=YEARLY;BYMONTH=4;BYDAY=1SU
DTSTART:20080406T030000
TZNAME:
TZOFFSETTO:+
END:STANDARD
BEGIN:DAYLIGHT
TZOFFSETFROM:+
RRULE:FREQ=YEARLY;BYMONTH=10;BYDAY=1SU
DTSTART:20081005T020000
TZNAME:AEDT
TZOFFSETTO:+1100
END:DAYLIGHT
END:VTIMEZONE
BEGIN:VEVENT
CREATED:20260425T025017
UID:Property3937422Inspection51693372
DTEND;TZID=Australia/:20190302T121000
TRANSP:OPAQUE
SUMMARY:Open For Inspection: 87 Perouse Ave, San Remo
DESCRIPTION:PROPERTY FOR LEASE IN SAN REMO - 3 bedroom home, built-ins in all bedrooms, L shape lounge / dining area, 4 car carport, fully fenced
LAST-MODIFIED:20260425T025017
DTSTAMP:20260425T025017
DTSTART;TZID=Australia/:20190302T120000
LOCATION:87 Perouse Ave San Remo NSW 2262
URL:http://www.capitalone.com.au/3937422
SEQUENCE:0
END:VEVENT
END:VCALENDAR
