BEGIN:VCALENDAR
VERSION:2.0
PRODID:-//Apple Inc.//iCal 5.0.2//EN
CALSCALE:GREGORIAN
BEGIN:VTIMEZONE
TZID:Australia/
BEGIN:STANDARD
TZOFFSETFROM:+1100
RRULE:FREQ=YEARLY;BYMONTH=4;BYDAY=1SU
DTSTART:20080406T030000
TZNAME:
TZOFFSETTO:+
END:STANDARD
BEGIN:DAYLIGHT
TZOFFSETFROM:+
RRULE:FREQ=YEARLY;BYMONTH=10;BYDAY=1SU
DTSTART:20081005T020000
TZNAME:AEDT
TZOFFSETTO:+1100
END:DAYLIGHT
END:VTIMEZONE
BEGIN:VEVENT
CREATED:20260425T030327
UID:Property20174383Inspection51693376
DTEND;TZID=Australia/:20190302T124000
TRANSP:OPAQUE
SUMMARY:Open For Inspection: 4a Canberry Close, BUFF POINT
DESCRIPTION:RECENTLY BUILT - Near new 2 bedroom home with level low maintenance yard. 
-Modern neutral colours throughout. 
-Built in robes. 
-Air conditioning in living area. 
-Dishwasher. 
-Fully fenced separate private yard.
 This property is recently constructed and located in a separate parcel of land at the back of this block. Shared driveway with one off street park available.

E & OE. Please note that all information herein is gathered from sources we believe to be reliable, however Capital One Real Estate cannot guarantee its accuracy and interested parties should rely on their own enquiries. All images are indicative of the property only.


LAST-MODIFIED:20260425T030327
DTSTAMP:20260425T030327
DTSTART;TZID=Australia/:20190302T123000
LOCATION:4a Canberry Close BUFF POINT NSW 2262
URL:http://www.capitalone.com.au/20174383
SEQUENCE:0
END:VEVENT
END:VCALENDAR
