BEGIN:VCALENDAR
VERSION:2.0
PRODID:-//Apple Inc.//iCal 5.0.2//EN
CALSCALE:GREGORIAN
BEGIN:VTIMEZONE
TZID:Australia/
BEGIN:STANDARD
TZOFFSETFROM:+1100
RRULE:FREQ=YEARLY;BYMONTH=4;BYDAY=1SU
DTSTART:20080406T030000
TZNAME:
TZOFFSETTO:+
END:STANDARD
BEGIN:DAYLIGHT
TZOFFSETFROM:+
RRULE:FREQ=YEARLY;BYMONTH=10;BYDAY=1SU
DTSTART:20081005T020000
TZNAME:AEDT
TZOFFSETTO:+1100
END:DAYLIGHT
END:VTIMEZONE
BEGIN:VEVENT
CREATED:20260425T014319
UID:Property20366645Inspection52765637
DTEND;TZID=Australia/:20200307T101500
TRANSP:OPAQUE
SUMMARY:Open For Inspection: 225 Johns Road, WADALBA
DESCRIPTION:LARGE FAMILY HOME - This large family residence totally 8 Bedrooms and 3 bathrooms with a large garage set on about 5000sqm R2 zoned land is one not to be missed! The home is positioned at the rear of the land, increasing the privacy of the home, and allowing development/investment potential at the front of the residence (STCA of course).

The main residence includes 4-5 bedrooms (main bedroom with ensuite & walk-in robe), multiple living areas and a large main bathroom. The flat offers 3 bedrooms and 1 bathroom, or could be included in the main floorplan of the home.

This stunning property includes so much such as:
  - 5000sqm of R2 zoned land (1/4 acre)
  - Total of 8 bedrooms and 3 bathrooms
  - Ducted Air-Conditioning and Ceiling Fans keeping the proeprty cool
  - ducted vacuum
  - alarm system
  - Approved plans for a 7 lot subdivision

*Please note: photos used are from the previous sale. Some changes have been made such as trees chopped down at the front of the property.

E & OE. Please note that all information herein is gathered from sources we believe to be reliable, however Capital One Real Estate cannot guarantee its accuracy and interested parties should rely on their own enquiries. All images are indicative of the property only.

LAST-MODIFIED:20260425T014319
DTSTAMP:20260425T014319
DTSTART;TZID=Australia/:20200307T094500
LOCATION:225 Johns Road WADALBA NSW 2259
URL:http://www.capitalone.com.au/20366645
SEQUENCE:0
END:VEVENT
END:VCALENDAR
