BEGIN:VCALENDAR
VERSION:2.0
PRODID:-//Apple Inc.//iCal 5.0.2//EN
CALSCALE:GREGORIAN
BEGIN:VTIMEZONE
TZID:Australia/
BEGIN:STANDARD
TZOFFSETFROM:+1100
RRULE:FREQ=YEARLY;BYMONTH=4;BYDAY=1SU
DTSTART:20080406T030000
TZNAME:
TZOFFSETTO:+
END:STANDARD
BEGIN:DAYLIGHT
TZOFFSETFROM:+
RRULE:FREQ=YEARLY;BYMONTH=10;BYDAY=1SU
DTSTART:20081005T020000
TZNAME:AEDT
TZOFFSETTO:+1100
END:DAYLIGHT
END:VTIMEZONE
BEGIN:VEVENT
CREATED:20260425T014243
UID:Property20413910Inspection52765638
DTEND;TZID=Australia/:20200307T113000
TRANSP:OPAQUE
SUMMARY:Open For Inspection: 117 Budgewoi Road, NORAVILLE
DESCRIPTION:MODERN BEACHSIDE LUXURY - This luxurious and contemporary beachside home with pedestrian access to the famous Hargraves Beach, is perfect for an extended or growing family. With a large and welcoming feature entry door, then greeted by soaring 9 foot ceilings throughout the entire property. Downstairs offers a guest room/in-laws accommodation including a built-in robe and walkthrough bathroom (which can be utilised as an ensuite).

Continue through to see the masses of living space with light-filled, open-plan living/dining/kitchen, which bends around into the large walk-through pantry and laundry. The kitchen including stone benchtops and European, stainless steel appliances. Upstairs offers 4 massive bedrooms, all with lots of storage, and an additional living area with balcony.

This home just doesn't stop! So many top of the range features including:

  - 459.8sqm block of land with pedestrian beach access
  - Ducted air-conditioning throughout the entire home
  - Guide-lights up the internal staircase
  - Spacious theatre room/additional bedroom
  - Sun-drenched living/dining with glass sliding door which opens up onto the entertaining area.
  - Large entertainers kitchen with walk-through pantry
  - European Stainless Steel Appliances
  - Large island bench with double sink and additional power points
  - Walk through laundry with lots of storage.
  - Master bedroom with walk through robe and ensuite
  - 4 large bedrooms - 2 with walk-through robes and 2 with large build-in robes
  - 3 modern bathrooms spread between the 2 levels
  - Extra-large, remote-controlled double garage with internal access.
  - 2 meter wide private access to beach (no public access).

Set on a 459.8 sqm block this home is in a premiere location, close to cafes, restaurants, public transport, schools and pristine ocean beaches. This coastal location invokes a sense of calm and relaxation. This one-off opportunity won't last long!

E & OE. Please note that all information herein is gathered from sources we believe to be reliable, however Capital One Real Estate cannot guarantee its accuracy and interested parties should rely on their own enquiries. All images are indicative of the property only.
LAST-MODIFIED:20260425T014243
DTSTAMP:20260425T014243
DTSTART;TZID=Australia/:20200307T110000
LOCATION:117 Budgewoi Road NORAVILLE NSW 2263
URL:http://www.capitalone.com.au/20413910
SEQUENCE:0
END:VEVENT
END:VCALENDAR
