BEGIN:VCALENDAR
VERSION:2.0
PRODID:-//Apple Inc.//iCal 5.0.2//EN
CALSCALE:GREGORIAN
BEGIN:VTIMEZONE
TZID:Australia/
BEGIN:STANDARD
TZOFFSETFROM:+1100
RRULE:FREQ=YEARLY;BYMONTH=4;BYDAY=1SU
DTSTART:20080406T030000
TZNAME:
TZOFFSETTO:+
END:STANDARD
BEGIN:DAYLIGHT
TZOFFSETFROM:+
RRULE:FREQ=YEARLY;BYMONTH=10;BYDAY=1SU
DTSTART:20081005T020000
TZNAME:AEDT
TZOFFSETTO:+1100
END:DAYLIGHT
END:VTIMEZONE
BEGIN:VEVENT
CREATED:20260425T012021
UID:Property20371623Inspection52765646
DTEND;TZID=Australia/:20200307T123000
TRANSP:OPAQUE
SUMMARY:Open For Inspection: 1/43 Heritage Drive, KANWAL
DESCRIPTION:TORRENS TITLE DUPLEX IN A GREAT LOCATION - This three bedroom brick and tile torrens title duplex of generous size, provides the perfect setting for the next family, first home or investment opportunity. Offering generous, open-plan living & dining area on a level floorplan, which opens up to a large timber deck overlooking the reserve and duck pond at the rear of the property. 
 
This home offers so much to its next owner including:
  - 3 generous bedrooms
  - Built-In robes to two bedrooms
  - Unique conservatory/garden courtyard
  - Large combined living & dining area
  - Timber deck overlooking the duck pond
  - Fully fenced backyard
  - Single lock-up garage
 
This property is located in a fantastic location within walking distance to local shops and close to schools, public transport and M1 Motorway. This one won't last long, to book your inspection call Peter on 0414 536 685 or (02) 4392 8828.
 

E & OE. Please note that all information herein is gathered from sources we believe to be reliable, however Capital One Real Estate cannot guarantee its accuracy and interested parties should rely on their own enquiries. All images are indicative of the property only.
LAST-MODIFIED:20260425T012021
DTSTAMP:20260425T012021
DTSTART;TZID=Australia/:20200307T120000
LOCATION:1/43 Heritage Drive KANWAL NSW 2259
URL:http://www.capitalone.com.au/20371623
SEQUENCE:0
END:VEVENT
END:VCALENDAR
