BEGIN:VCALENDAR
VERSION:2.0
PRODID:-//Apple Inc.//iCal 5.0.2//EN
CALSCALE:GREGORIAN
BEGIN:VTIMEZONE
TZID:Australia/
BEGIN:STANDARD
TZOFFSETFROM:+1100
RRULE:FREQ=YEARLY;BYMONTH=4;BYDAY=1SU
DTSTART:20080406T030000
TZNAME:
TZOFFSETTO:+
END:STANDARD
BEGIN:DAYLIGHT
TZOFFSETFROM:+
RRULE:FREQ=YEARLY;BYMONTH=10;BYDAY=1SU
DTSTART:20081005T020000
TZNAME:AEDT
TZOFFSETTO:+1100
END:DAYLIGHT
END:VTIMEZONE
BEGIN:VEVENT
CREATED:20260425T012000
UID:Property20397989Inspection52765653
DTEND;TZID=Australia/:20200307T120000
TRANSP:OPAQUE
SUMMARY:Open For Inspection: 12 Muraban Road, SUMMERLAND POINT
DESCRIPTION:INSPECTIONS BY APPOINTMENT - ULTIMATE LAKE MACQUARIE LIFESTYLE

Located on the perfect shores of Summerland Point, approximately a 3-4mintue walk down to Sandy Beach. A peaceful private environment that makes you never feels more at home. A master bedroom that gives you private access to an undercover exceptionally large balcony. In-fact this high set property has recently underwent renovations with a brand new top class kitchen put in with outstanding 5 stars appliances. No stress plenty of room to park yours cars, boats even a jet ski with a wide drive through garage with an undercover carport an access to off the street parking. This property has so much desire for you to let your inspiration take over!

E & OE. Please note that all information herein is gathered from sources we believe to be reliable, however we cannot guarantee its accuracy and interested parties should rely on their own enquiries.
LAST-MODIFIED:20260425T012000
DTSTAMP:20260425T012000
DTSTART;TZID=Australia/:20200307T113000
LOCATION:12 Muraban Road SUMMERLAND POINT NSW 2259
URL:http://www.capitalone.com.au/20397989
SEQUENCE:0
END:VEVENT
END:VCALENDAR
