BEGIN:VCALENDAR
VERSION:2.0
PRODID:-//Apple Inc.//iCal 5.0.2//EN
CALSCALE:GREGORIAN
BEGIN:VTIMEZONE
TZID:Australia/
BEGIN:STANDARD
TZOFFSETFROM:+1100
RRULE:FREQ=YEARLY;BYMONTH=4;BYDAY=1SU
DTSTART:20080406T030000
TZNAME:
TZOFFSETTO:+
END:STANDARD
BEGIN:DAYLIGHT
TZOFFSETFROM:+
RRULE:FREQ=YEARLY;BYMONTH=10;BYDAY=1SU
DTSTART:20081005T020000
TZNAME:AEDT
TZOFFSETTO:+1100
END:DAYLIGHT
END:VTIMEZONE
BEGIN:VEVENT
CREATED:20260425T012001
UID:Property20385320Inspection52765680
DTEND;TZID=Australia/:20200307T103000
TRANSP:OPAQUE
SUMMARY:Open For Inspection: 8 Beulah Road, NORAVILLE
DESCRIPTION:INSPECTIONS UNAVAILABLE - RENOVATIONS UNDERWAY - Inspections are currently unavailable until further notice. Owners are currently doing some renovations to the property.

Looking for a great investment? Then you can't go past this cracker property! Located in a great, family-friendly street in Noraville and close to everything! The home consisting of three generous bedrooms (all with built-ins) and functional family bathroom & ensuite. Generous open plan living with timber floors running through the entire home. Good sized kitchen with plenty of storage including a large pantry and extra above bench shelf.

The huge granny flat offers 1 bedroom, 1 bathroom with massive dining and living area. You're definitely not short on space in this flat! Great sized kitchen, with storage galore, overlooking the shared backyard.

Offering so much, this property includes features such as:

  - Potential to achieve up to $625 a week in rent.
  - Seperately metered power
  - 3 Bedroom, 2 Bathroom home with a 1 Bedroom 1 Bathroom Flat
  - Timber floors throughout the home
  - Open plan living
  - Both kitchens have lots of storage
  - 2 lock-up garages (1 for each lease)
  - Flat contains an Air-Conditioner
  - Set on a large 645sqm block
  - About a 10 minute walk to the Canton Beach Foreshore

This sound investment is one not to be missed! To find out more, or to book your inspection call Darren on 0417 449 439 or (02) 4392 8828 today!

E & OE. Please note that all information herein is gathered from sources we believe to be reliable, however we cannot guarantee its accuracy and interested parties should rely on their own enquiries.
LAST-MODIFIED:20260425T012001
DTSTAMP:20260425T012001
DTSTART;TZID=Australia/:20200307T100000
LOCATION:8 Beulah Road NORAVILLE NSW 2263
URL:http://www.capitalone.com.au/20385320
SEQUENCE:0
END:VEVENT
END:VCALENDAR
