BEGIN:VCALENDAR
VERSION:2.0
PRODID:-//Apple Inc.//iCal 5.0.2//EN
CALSCALE:GREGORIAN
BEGIN:VTIMEZONE
TZID:Australia/
BEGIN:STANDARD
TZOFFSETFROM:+1100
RRULE:FREQ=YEARLY;BYMONTH=4;BYDAY=1SU
DTSTART:20080406T030000
TZNAME:
TZOFFSETTO:+
END:STANDARD
BEGIN:DAYLIGHT
TZOFFSETFROM:+
RRULE:FREQ=YEARLY;BYMONTH=10;BYDAY=1SU
DTSTART:20081005T020000
TZNAME:AEDT
TZOFFSETTO:+1100
END:DAYLIGHT
END:VTIMEZONE
BEGIN:VEVENT
CREATED:20260425T013020
UID:Property20415216Inspection52765685
DTEND;TZID=Australia/:20200307T143000
TRANSP:OPAQUE
SUMMARY:Open For Inspection: 25 Katoomba Avenue, SAN REMO
DESCRIPTION:HOUSE & GRANNY FLAT WITH TENANTS - This great investment opportunity is set up and ready to go! Original home in a great condition and a modern granny flat, all with backyard still left over in this 1018sqm block of land.

The House
  - Front verandah
  - 3 spacious bedrooms - 2 with built-Ins
  - Separate kitchen, dining and lounge 
  - Large lounge with split-system air-conditioning
  - Extra living area
  - Tidy kitchen with wall oven, electric stove and dishwasher
  - Bathroom with separated toilet & shower
  - Lots of extra storage cupboards in the bathroom
  - Enclosed sunroom and covered outdoor entertaining area
  - Internal access single garage

The Granny Flat
  - Modern, high quality, 3 bedroom granny flat
  - 3 bedrooms all with built-ins
  - Light-filled lounge with split-system air-conditioning
  - Modern kitchen with electric stove and stainless steel dishwasher & electric oven
  - Large bathroom
  - Carport offering access to the granny flat

This great investment has tenants In both the house & the granny flat who are willing to stay! These tenants are on current leases paying a total of $690 p.w. This opportunity won't last long, so call Darren on 0417 449 439 or (02) 4392 8828 to book your inspection!

E & OE. Please note that all information herein is gathered from sources we believe to be reliable, however we cannot guarantee its accuracy and interested parties should rely on their own inquiries.
LAST-MODIFIED:20260425T013020
DTSTAMP:20260425T013020
DTSTART;TZID=Australia/:20200307T140000
LOCATION:25 Katoomba Avenue SAN REMO NSW 2262
URL:http://www.capitalone.com.au/20415216
SEQUENCE:0
END:VEVENT
END:VCALENDAR
