BEGIN:VCALENDAR
VERSION:2.0
PRODID:-//Apple Inc.//iCal 5.0.2//EN
CALSCALE:GREGORIAN
BEGIN:VTIMEZONE
TZID:Australia/
BEGIN:STANDARD
TZOFFSETFROM:+1100
RRULE:FREQ=YEARLY;BYMONTH=4;BYDAY=1SU
DTSTART:20080406T030000
TZNAME:
TZOFFSETTO:+
END:STANDARD
BEGIN:DAYLIGHT
TZOFFSETFROM:+
RRULE:FREQ=YEARLY;BYMONTH=10;BYDAY=1SU
DTSTART:20081005T020000
TZNAME:AEDT
TZOFFSETTO:+1100
END:DAYLIGHT
END:VTIMEZONE
BEGIN:VEVENT
CREATED:20260425T014335
UID:Property20405679Inspection52765688
DTEND;TZID=Australia/:20200308T111500
TRANSP:OPAQUE
SUMMARY:Open For Inspection: 52 Gilbert Avenue, Gorokan
DESCRIPTION:STYLISH SECLUDED VILLA - This tasteful renovated, 3-bedroom, detached Villa is in a quiet complex and is one not to miss! With 3 spacious bedrooms, 2 with Built-Ins, this is perfect for the first home buyer or downsizer. Light filled living/dining area with Fujitsu Split-System Air-Conditioner. Updated kitchen with electric stove, wall mounted oven, raised microwave shelf and Fisher & Paykel 2 drawer dishwasher. Modern bathroom with mirrored shaving cabinet above vanity. The low-maintenance back yard is fully fenced with an additional carport, low maintenance garden and easy-access wooden deck. And strata fees just as low as $ 371.88 quarterly!!

Offering so many features including:
- 2 car spaces - 1 lock-up garage and 1 carport
- Visitor car space next to the property
- 3 Spacious bedrooms - 2 with built-ins
- Modern bathroom
- Open plan living/dining/kitchen
- Fujitsu air-conditioner in living area
- 2 drawer Fisher & Paykel dishwasher
- Wall-mounted oven and raised microwave shelf
- Fully fenced backyard
- Easy-access wooden deck with ramp
- brand new door 

Act now so you don't miss out! Call Darren on 0417 449 439 or (02) 4392 8828 to book your inspection today.

E & OE. Please note that all information herein is gathered from sources we believe to be reliable, however we cannot guarantee its accuracy and interested parties should rely on their own inquiries.
LAST-MODIFIED:20260425T014335
DTSTAMP:20260425T014335
DTSTART;TZID=Australia/:20200308T104500
LOCATION:52 Gilbert Avenue Gorokan NSW 2263
URL:http://www.capitalone.com.au/20405679
SEQUENCE:0
END:VEVENT
END:VCALENDAR
