BEGIN:VCALENDAR
VERSION:2.0
PRODID:-//Apple Inc.//iCal 5.0.2//EN
CALSCALE:GREGORIAN
BEGIN:VTIMEZONE
TZID:Australia/
BEGIN:STANDARD
TZOFFSETFROM:+1100
RRULE:FREQ=YEARLY;BYMONTH=4;BYDAY=1SU
DTSTART:20080406T030000
TZNAME:
TZOFFSETTO:+
END:STANDARD
BEGIN:DAYLIGHT
TZOFFSETFROM:+
RRULE:FREQ=YEARLY;BYMONTH=10;BYDAY=1SU
DTSTART:20081005T020000
TZNAME:AEDT
TZOFFSETTO:+1100
END:DAYLIGHT
END:VTIMEZONE
BEGIN:VEVENT
CREATED:20260425T012613
UID:Property19707475Inspection52765689
DTEND;TZID=Australia/:20200308T120000
TRANSP:OPAQUE
SUMMARY:Open For Inspection: 21 Gilbert Avenue, Gorokan
DESCRIPTION:SPACIOUS, CONVENIENT & LOW MAINTENANCE - Situated in the heart of Gorokan is this neat and spacious villa, perfect for the investor or downsizer alike. With only one adjoining unit (only connected via a common garage wall), this single level villa offers easy and low maintenance living. This villa will give its next owner 2 bedrooms, both with Built-Ins, a spacious kitchen with an abundance of bench space and European Oven and tidy bathroom. Boasting spacious, light-filled living with a split-system air-conditioner to keep you cool and a separate dining/kitchen area. Not a cent to spend with fresh paint & carpets throughout.

Some features of this great opportunity include:
  - Impressive brick and tile villa
  - Popular private complex
  - 2 Generous bedrooms with built-in robes
  - Well-appointed kitchen
  - Ample storage throughout
  - Reverse cycle air conditioning
  - Front veranda over-looking the beautiful gardens
  - Low maintenance courtyard
  - Internal access single garage

From your sun-trapped front veranda to your peaceful courtyard with young Citrus, Olive, Paw Paw & Fig trees. All this is ideally located close to local shops, medical facilities, club and transport. Come and get a feel for the good life. 
E & OE. Please note that all information herein is gathered from sources we believe to be reliable, however we cannot guarantee its accuracy and interested parties should rely on their own enquiries

LAST-MODIFIED:20260425T012613
DTSTAMP:20260425T012613
DTSTART;TZID=Australia/:20200308T233000
LOCATION:21 Gilbert Avenue Gorokan NSW 2263
URL:http://www.capitalone.com.au/19707475
SEQUENCE:0
END:VEVENT
END:VCALENDAR
