BEGIN:VCALENDAR
VERSION:2.0
PRODID:-//Apple Inc.//iCal 5.0.2//EN
CALSCALE:GREGORIAN
BEGIN:VTIMEZONE
TZID:Australia/
BEGIN:STANDARD
TZOFFSETFROM:+1100
RRULE:FREQ=YEARLY;BYMONTH=4;BYDAY=1SU
DTSTART:20080406T030000
TZNAME:
TZOFFSETTO:+
END:STANDARD
BEGIN:DAYLIGHT
TZOFFSETFROM:+
RRULE:FREQ=YEARLY;BYMONTH=10;BYDAY=1SU
DTSTART:20081005T020000
TZNAME:AEDT
TZOFFSETTO:+1100
END:DAYLIGHT
END:VTIMEZONE
BEGIN:VEVENT
CREATED:20260425T014207
UID:Property20408914Inspection52766072
DTEND;TZID=Australia/:19700101T000000
TRANSP:OPAQUE
SUMMARY:Open For Inspection: 14 Watanobbi Road, WATANOBBI
DESCRIPTION:SOLD - ADAM TODD  0410 466 425 - This low-maintenance brick and tile home offers spacious single-level living and is situated in the handiest of locations. Featuring a large lounge room, with floor to ceiling windows, adjoining a functional kitchen/dining area, combined with 3 bedrooms and an additional large room that could be used as a fourth bedroom or additional family room. A versatile drive through carport and separate single garage occupy the spacious rear yard area, with plenty of room for a granny flat ( STCA ).
 
* Spacious lounge room with reverse-cycle air-conditioning
* Fully fenced rear yard 
* Sprawling 651sqm (approx) block
* Ceiling fans, throughout  and built-ins in 2 bedrooms
* Reverse-cycle air-conditioning
* Close to all necessary amenities including Railway Station, Aldi, Coles & schools.
* Internal laundry with built-in storage
* Large covered rear entertainment area
* Additional large room that can be used as fourth bedroom or additional family room
* Carport plus separate garage
 
E & OE. Please note that all information herein is gathered from sources we believe to be reliable, however we cannot guarantee its accuracy and interested parties should rely on their own inquiries.


LAST-MODIFIED:20260425T014207
DTSTAMP:20260425T014207
DTSTART;TZID=Australia/:19700101T100000
LOCATION:14 Watanobbi Road WATANOBBI NSW 2259
URL:http://www.capitalone.com.au/20408914
SEQUENCE:0
END:VEVENT
END:VCALENDAR
