BEGIN:VCALENDAR
VERSION:2.0
PRODID:-//Apple Inc.//iCal 5.0.2//EN
CALSCALE:GREGORIAN
BEGIN:VTIMEZONE
TZID:Australia/
BEGIN:STANDARD
TZOFFSETFROM:+1100
RRULE:FREQ=YEARLY;BYMONTH=4;BYDAY=1SU
DTSTART:20080406T030000
TZNAME:
TZOFFSETTO:+
END:STANDARD
BEGIN:DAYLIGHT
TZOFFSETFROM:+
RRULE:FREQ=YEARLY;BYMONTH=10;BYDAY=1SU
DTSTART:20081005T020000
TZNAME:AEDT
TZOFFSETTO:+1100
END:DAYLIGHT
END:VTIMEZONE
BEGIN:VEVENT
CREATED:20260425T012609
UID:Property20422411Inspection52766081
DTEND;TZID=Australia/:20200307T123000
TRANSP:OPAQUE
SUMMARY:Open For Inspection: 7 Voyager Street, WADALBA
DESCRIPTION:UNDER CONTRACT - UNDER CONTRACT

Featuring an inviting agave lined entry corridor this beautiful single level home is spacious enough for even the largest of families.  The indulgent kitchen includes an expansive bench preparation area, breakfast bar and functional corner pantry, whilst opening onto a generous dining area. Adjacent to this is an over-sized well-appointed lounge room that offers more space to entertain the entire family. The master bedroom includes wall to wall built-in robes plus ensuite and all additional bedrooms are well proportioned and include plenty of storage with built-ins. Combined with a fully fenced rear yard and a super handy location to all amenities, this low maintenance home is a must to inspect.

* Sprawling brick & tile family residence
* Large laundry with plenty of room for an additional freezer/storage
* Spacious foyer with additional space for study nook
* Reverse cycle air-conditioning
* Built in robes to all bedrooms
* Spacious main bedroom with functional ensuite
* Expansive kitchen including natural gas cook top & caesarstone benches
* Large double garage with automatic entry 
* Fully fenced rear yard with additional water tank
* Enormous dining & family room to entertain the entire family
* Close to the schools, Coles/Woolworths, parks, with easy access to the M1, train stations and  


E & OE. Please note that all information herein is gathered from sources we believe to be reliable, however Capital One Real Estate cannot guarantee its accuracy and interested parties should rely on their own inquiries. All images are indicative of the property only.

LAST-MODIFIED:20260425T012609
DTSTAMP:20260425T012609
DTSTART;TZID=Australia/:20200307T120000
LOCATION:7 Voyager Street WADALBA NSW 2259
URL:http://www.capitalone.com.au/20422411
SEQUENCE:0
END:VEVENT
END:VCALENDAR
