BEGIN:VCALENDAR
VERSION:2.0
PRODID:-//Apple Inc.//iCal 5.0.2//EN
CALSCALE:GREGORIAN
BEGIN:VTIMEZONE
TZID:Australia/
BEGIN:STANDARD
TZOFFSETFROM:+1100
RRULE:FREQ=YEARLY;BYMONTH=4;BYDAY=1SU
DTSTART:20080406T030000
TZNAME:
TZOFFSETTO:+
END:STANDARD
BEGIN:DAYLIGHT
TZOFFSETFROM:+
RRULE:FREQ=YEARLY;BYMONTH=10;BYDAY=1SU
DTSTART:20081005T020000
TZNAME:AEDT
TZOFFSETTO:+1100
END:DAYLIGHT
END:VTIMEZONE
BEGIN:VEVENT
CREATED:20260425T014207
UID:Property20415232Inspection52766083
DTEND;TZID=Australia/:20200307T103000
TRANSP:OPAQUE
SUMMARY:Open For Inspection: 72 Hillcrest Avenue, TACOMA
DESCRIPTION:LOW MAINTENANCE SINGLE LEVEL LIVING - Offering an immaculately presented, single level, family home nestled in one of the handiest locations. This low-maintenance property has an abundance of natural light and offers a functional floor plan and spacious master bedroom with triple door built-in. External features include large level yard with fully covered entertainment area and an abundance of sealed off street parking, combined with large drive through carport and additional lock up garage. With Wyong Railway Station and shops only 5 minutes away and 10 minutes to Westfield Tuggerah and M1, this move-in ready home would suit families and investors alike.
 
* Spacious lounge/dining areas 
* Functional kitchen with servery window to dining area
* Solar hot water system
* Reverse cycle air-conditioning
* Large drive through carport and additional lock-up garage
* Spacious master bedroom with triple door built-in and built-ins to additional bedrooms
* Ceiling fans to lounge room and all bedrooms
* Functional bathroom with separate toilet
* Internal laundry
* Led down lights throughout
* Large rear yard with ample room for a granny flat (STCA )
* Handy to Tacoma Public School and a few minutes walk to Wyong River


E & OE. Please note that all information herein is gathered from sources we believe to be reliable, however we cannot guarantee its accuracy and interested parties should rely on their own inquiries.
LAST-MODIFIED:20260425T014207
DTSTAMP:20260425T014207
DTSTART;TZID=Australia/:20200307T100000
LOCATION:72 Hillcrest Avenue TACOMA NSW 2259
URL:http://www.capitalone.com.au/20415232
SEQUENCE:0
END:VEVENT
END:VCALENDAR
