BEGIN:VCALENDAR
VERSION:2.0
PRODID:-//Apple Inc.//iCal 5.0.2//EN
CALSCALE:GREGORIAN
BEGIN:VTIMEZONE
TZID:Australia/
BEGIN:STANDARD
TZOFFSETFROM:+1100
RRULE:FREQ=YEARLY;BYMONTH=4;BYDAY=1SU
DTSTART:20080406T030000
TZNAME:
TZOFFSETTO:+
END:STANDARD
BEGIN:DAYLIGHT
TZOFFSETFROM:+
RRULE:FREQ=YEARLY;BYMONTH=10;BYDAY=1SU
DTSTART:20081005T020000
TZNAME:AEDT
TZOFFSETTO:+1100
END:DAYLIGHT
END:VTIMEZONE
BEGIN:VEVENT
CREATED:20260425T002627
UID:Property5079762Inspection53745355
DTEND;TZID=Australia/:20210227T140000
TRANSP:OPAQUE
SUMMARY:Open For Inspection: 16 King Road, HORNSBY
DESCRIPTION:Available Now - Here is a great opportunity to lease this unique property offering so much.

Set within walking distance to Westfield shopping centre and Hornsby train station is this spacious family home which will tick all the boxes. The home which is set on 1024m2 of land features 4 large bedrooms (3 with built-ins) and a study with its own entrance. The main bedroom has an en-suite and there is a 3 way main bathroom which is perfect for the children. 

Catching the sun at the front of the house you have a huge entertaining deck with district views and inside, separate lounge, dining room and study/sun room. 

The open plan Oregon kitchen with granite benchtops flows to an amazing family room with open fireplace, timber beams on the ceiling and plenty of windows to allow natural light to pour in, all year round comfort there is fully ducted reverse cycle air conditioning. Out the back there is a private entertaining courtyard, some level garden which is great for children and pets plus a built-in cubby house for the explorers in the family. There is also an outside toilet which is great when you have parties and bbq. Under the house there is a large workshop/man cave or potential studio and a separate double lock up garage. 


Contact Abdul Moussalli 0412800400 to arrange a walk through
LAST-MODIFIED:20260425T002627
DTSTAMP:20260425T002627
DTSTART;TZID=Australia/:20210227T133000
LOCATION:16 King Road HORNSBY NSW 2077
URL:https://www.australianpropertychoice.com.au/5079762
SEQUENCE:0
END:VEVENT
END:VCALENDAR
