BEGIN:VCALENDAR
VERSION:2.0
PRODID:-//Apple Inc.//iCal 5.0.2//EN
CALSCALE:GREGORIAN
BEGIN:VTIMEZONE
TZID:Australia/
BEGIN:STANDARD
TZOFFSETFROM:+1100
RRULE:FREQ=YEARLY;BYMONTH=4;BYDAY=1SU
DTSTART:20080406T030000
TZNAME:
TZOFFSETTO:+
END:STANDARD
BEGIN:DAYLIGHT
TZOFFSETFROM:+
RRULE:FREQ=YEARLY;BYMONTH=10;BYDAY=1SU
DTSTART:20081005T020000
TZNAME:AEDT
TZOFFSETTO:+1100
END:DAYLIGHT
END:VTIMEZONE
BEGIN:VEVENT
CREATED:20260425T002915
UID:Property20621336Inspection53759279
DTEND;TZID=Australia/:20210227T114500
TRANSP:OPAQUE
SUMMARY:Open For Inspection: 2/47 Lucerne Street, BELMORE
DESCRIPTION:FULLY RENOVATED 2 BEDROOM GROUND FLOOR - Conveniently located in the heart of Belmore, this fully renovated 2-bedroom ground floor unit is a short walk from Belmore station.
Offering:
Tiled Flooring throughout
Built-ins wardrobes
Modern Kitchen
Modern bathroom
Freshly painted
New Blind
Internal laundry
Balcony
Under cover car space
For more information and to arrange a private viewing call Sam El-Kurdi 0410454419

LAST-MODIFIED:20260425T002915
DTSTAMP:20260425T002915
DTSTART;TZID=Australia/:20210227T113000
LOCATION:2/47 Lucerne Street BELMORE NSW 2192
URL:https://www.australianpropertychoice.com.au/20621336
SEQUENCE:0
END:VEVENT
END:VCALENDAR
