BEGIN:VCALENDAR
VERSION:2.0
PRODID:-//Apple Inc.//iCal 5.0.2//EN
CALSCALE:GREGORIAN
BEGIN:VTIMEZONE
TZID:Australia/
BEGIN:STANDARD
TZOFFSETFROM:+1100
RRULE:FREQ=YEARLY;BYMONTH=4;BYDAY=1SU
DTSTART:20080406T030000
TZNAME:
TZOFFSETTO:+
END:STANDARD
BEGIN:DAYLIGHT
TZOFFSETFROM:+
RRULE:FREQ=YEARLY;BYMONTH=10;BYDAY=1SU
DTSTART:20081005T020000
TZNAME:AEDT
TZOFFSETTO:+1100
END:DAYLIGHT
END:VTIMEZONE
BEGIN:VEVENT
CREATED:20260425T002941
UID:Property12989773Inspection53759283
DTEND;TZID=Australia/:20210227T110000
TRANSP:OPAQUE
SUMMARY:Open For Inspection: 5/480 Illawarra Road, Marrickville
DESCRIPTION:Available Now - Feel the vibe and enjoy all that cosmopolitan Marrickville has to offer with its excellent cafes, restaurants, Marrickville Train station and speciality shops at your doorstep.

Located on the second floor this 2 bedroom renovated apartment  with floorboards throughout, , built-in robe in the main bedroom, Modern kitchen with stainless steel appliances including dishwasher, Modern bathroom with new vanity, double glazed windows.

Additional features 
Two comfortable bedrooms
Separate laundry room with washing line
Approximately 350m from Woolworths and 800m from the train station 
Large living area with a spacious balcony which allows you to sit and enjoy the evening hustle and bustle of Marrickville.
Street Parking only

For inspection contact Abdul Moussalli 0412800400




LAST-MODIFIED:20260425T002941
DTSTAMP:20260425T002941
DTSTART;TZID=Australia/:20210227T103000
LOCATION:5/480 Illawarra Road Marrickville NSW 2204
URL:https://www.australianpropertychoice.com.au/12989773
SEQUENCE:0
END:VEVENT
END:VCALENDAR
