BEGIN:VCALENDAR
VERSION:2.0
PRODID:-//Apple Inc.//iCal 5.0.2//EN
CALSCALE:GREGORIAN
BEGIN:VTIMEZONE
TZID:Australia/
BEGIN:STANDARD
TZOFFSETFROM:+1100
RRULE:FREQ=YEARLY;BYMONTH=4;BYDAY=1SU
DTSTART:20080406T030000
TZNAME:
TZOFFSETTO:+
END:STANDARD
BEGIN:DAYLIGHT
TZOFFSETFROM:+
RRULE:FREQ=YEARLY;BYMONTH=10;BYDAY=1SU
DTSTART:20081005T020000
TZNAME:AEDT
TZOFFSETTO:+1100
END:DAYLIGHT
END:VTIMEZONE
BEGIN:VEVENT
CREATED:20260425T002746
UID:Property7700773Inspection53759467
DTEND;TZID=Australia/:20210227T140000
TRANSP:OPAQUE
SUMMARY:Open For Inspection: 24A Cullens Road, Punchbowl
DESCRIPTION:Available Now - Spacious and comfortable home available on the now offering, four bedrooms, en-suite in main, built-ins and access to balconies, big separate lounge and dining, modern kitchen with stainless steel appliances, gas cooking, two modern bathrooms three toilets, internal laundry, auto lock-up garage with off street parking for a second car and a short walk to public transport. 

Call 0410454419 to arrange a viewing
LAST-MODIFIED:20260425T002746
DTSTAMP:20260425T002746
DTSTART;TZID=Australia/:20210227T134500
LOCATION:24A Cullens Road Punchbowl NSW 2196
URL:https://www.australianpropertychoice.com.au/7700773
SEQUENCE:0
END:VEVENT
END:VCALENDAR
