BEGIN:VCALENDAR
VERSION:2.0
PRODID:-//Apple Inc.//iCal 5.0.2//EN
CALSCALE:GREGORIAN
BEGIN:VTIMEZONE
TZID:Australia/
BEGIN:STANDARD
TZOFFSETFROM:+1100
RRULE:FREQ=YEARLY;BYMONTH=4;BYDAY=1SU
DTSTART:20080406T030000
TZNAME:
TZOFFSETTO:+
END:STANDARD
BEGIN:DAYLIGHT
TZOFFSETFROM:+
RRULE:FREQ=YEARLY;BYMONTH=10;BYDAY=1SU
DTSTART:20081005T020000
TZNAME:AEDT
TZOFFSETTO:+1100
END:DAYLIGHT
END:VTIMEZONE
BEGIN:VEVENT
CREATED:20260425T002840
UID:Property11116373Inspection53759469
DTEND;TZID=Australia/:20210227T150000
TRANSP:OPAQUE
SUMMARY:Open For Inspection: 1/47-49 Connells Point Road, South Hurstville
DESCRIPTION:Modern and bright 2 Bedroom Apartment - This modern and bright apartment is a must to view!

Features: 

Large open plan living area
Kitchen with stainless steel appliances , dishwasher & range hood 
Gas cooking 
Reverse cycle split air-conditioning,
Large bedrooms with built-ins
Modern Bathroom
Ensuite to main bedroom
Internal laundry 
Video intercom
Tiled throughout
High ceilings
Recessed down lights
Security complex 
Large L shape balcony
Tandem lock up garages in a secure basement parking
Available Now call 1300776778 for inspection






LAST-MODIFIED:20260425T002840
DTSTAMP:20260425T002840
DTSTART;TZID=Australia/:20210227T143000
LOCATION:1/47-49 Connells Point Road South Hurstville NSW 2221
URL:https://www.australianpropertychoice.com.au/11116373
SEQUENCE:0
END:VEVENT
END:VCALENDAR
