BEGIN:VCALENDAR
VERSION:2.0
PRODID:-//Apple Inc.//iCal 5.0.2//EN
CALSCALE:GREGORIAN
BEGIN:VTIMEZONE
TZID:Australia/
BEGIN:STANDARD
TZOFFSETFROM:+1100
RRULE:FREQ=YEARLY;BYMONTH=4;BYDAY=1SU
DTSTART:20080406T030000
TZNAME:
TZOFFSETTO:+
END:STANDARD
BEGIN:DAYLIGHT
TZOFFSETFROM:+
RRULE:FREQ=YEARLY;BYMONTH=10;BYDAY=1SU
DTSTART:20081005T020000
TZNAME:AEDT
TZOFFSETTO:+1100
END:DAYLIGHT
END:VTIMEZONE
BEGIN:VEVENT
CREATED:20260425T024327
UID:Property20145985Inspection51686106
DTEND;TZID=Australia/:20190302T133000
TRANSP:OPAQUE
SUMMARY:Open For Inspection: 73 JEFFERIS ROAD, HUMPTY DOO
DESCRIPTION:FIRST HOMEBUYER DELUXE! - Situated close proximity to Humpty Doo Schools, Shops and Golf course in a nice quiet street on 5 acres (2 hectares) freehold land, fully fenced with 6 horse/cattle grazing paddocks.

The property features a fully coded 3 bedroom with spacious 2 way bathroom to main bedroom semi elevated home set back form the main road. The home presents like new.

The kitchen has lots cupboards and bench space plus new oven and cooktop stove and there is a dishwasher.

The home has floating timber floors and is tiled in the bathroom and there are Built In Robes in the bedrooms.

The home has Solar Hot Water.

With the 4meter wide front and rear verandahs are fully concreted, there is lots of room to entertain and rear verandah overlooks above ground plunge spa with its own Gazebo for shade to enjoy on those hot monsoon days to chill out.

The shed is massive and built to code at 13m x 16m ideal for handyman and hobby activities.

Pasture improvement exists with mixed grasses for grazing in the various paddocks along with nice gardens and lawn area around the home.

The fencing is mostly new and there are two horse stables.

There is a dog kennel / chook pen.

Rural lifestyle awaites you, move in or rent it out now.

LAST-MODIFIED:20260425T024327
DTSTAMP:20260425T024327
DTSTART;TZID=Australia/:20190302T123000
LOCATION:73 JEFFERIS ROAD HUMPTY DOO NT 836
URL:http://www.northernterritoryrealty.com.au/20145985
SEQUENCE:0
END:VEVENT
END:VCALENDAR
