BEGIN:VCALENDAR
VERSION:2.0
PRODID:-//Apple Inc.//iCal 5.0.2//EN
CALSCALE:GREGORIAN
BEGIN:VTIMEZONE
TZID:Australia/
BEGIN:STANDARD
TZOFFSETFROM:+1100
RRULE:FREQ=YEARLY;BYMONTH=4;BYDAY=1SU
DTSTART:20080406T030000
TZNAME:
TZOFFSETTO:+
END:STANDARD
BEGIN:DAYLIGHT
TZOFFSETFROM:+
RRULE:FREQ=YEARLY;BYMONTH=10;BYDAY=1SU
DTSTART:20081005T020000
TZNAME:AEDT
TZOFFSETTO:+1100
END:DAYLIGHT
END:VTIMEZONE
BEGIN:VEVENT
CREATED:20260425T023952
UID:Property20163319Inspection51690570
DTEND;TZID=Australia/:20190302T140000
TRANSP:OPAQUE
SUMMARY:Open For Inspection: 37 Evesham Place, THURGOONA
DESCRIPTION:GOLF COURSE FRONTAGE - This wonderfully positioned two storey townhouse has an abundance of natural light and quality finishes throughout; offering three bedrooms, en-suite, two living areas, spacious kitchen, outdoor entertaining and a single lockup garage. 

The modern kitchen features a stainless steel gas cooktop, electric oven, dishwasher, ample workbench space, storage and a meals area. The home offers a semi-formal carpeted lounge with a private outlook into the from courtyard and a tiled family room which leads out onto the golf course, which would be nice for a walk, golf or a short stroll to the restaurant for a meal etc. if the urge arises. The separate laundry has a drying courtyard too. 

Upstairs and away from the ground floor entertaining areas, you will find 3 generous bedrooms including the master, which offers an en-suite and the second storey balcony overlooking the course and natural surrounds. All the bedrooms include split system, reverse cycle air conditioners plus there's another downstairs. 

The property includes a lockup garage plus there's double gates too if you wish to run a golf cart in, etc. Directly opposite this home are the local tennis courts and an easy walk to the university and shopping centre. 

*The information contained herein has been obtained through sources deemed reliable by Wood Real Estate, but cannot be guaranteed for its accuracy. We recommend to the buyer or renter that any information, which is of special interest, should be obtained through independent verification.

LAST-MODIFIED:20260425T023952
DTSTAMP:20260425T023952
DTSTART;TZID=Australia/:20190302T133000
LOCATION:37 Evesham Place THURGOONA NSW 2640
URL:http://www.woodrealestate.com.au/20163319
SEQUENCE:0
END:VEVENT
END:VCALENDAR
