BEGIN:VCALENDAR
VERSION:2.0
PRODID:-//Apple Inc.//iCal 5.0.2//EN
CALSCALE:GREGORIAN
BEGIN:VTIMEZONE
TZID:Australia/
BEGIN:STANDARD
TZOFFSETFROM:+1100
RRULE:FREQ=YEARLY;BYMONTH=4;BYDAY=1SU
DTSTART:20080406T030000
TZNAME:
TZOFFSETTO:+
END:STANDARD
BEGIN:DAYLIGHT
TZOFFSETFROM:+
RRULE:FREQ=YEARLY;BYMONTH=10;BYDAY=1SU
DTSTART:20081005T020000
TZNAME:AEDT
TZOFFSETTO:+1100
END:DAYLIGHT
END:VTIMEZONE
BEGIN:VEVENT
CREATED:20260425T024326
UID:Property20067475Inspection51690586
DTEND;TZID=Australia/:20190302T123000
TRANSP:OPAQUE
SUMMARY:Open For Inspection: 1 Kuloomba Street, Tamworth
DESCRIPTION:IMMACULATE HOME - GREAT STARTER OR INVESTMENT - Immaculately kept this solid family home is perfect for those seeking quality fixtures conveniently located near two primary schools with a secure yard space for kids. The home boasts a spacious lounge room that opens onto the tiled front verandah which provides the perfect spot to soak up the afternoon sun while the meals area flows onto the undercover entertaining area ready for the weekend BBQ. Additional features include sizable bedrooms with built-in robes, a quality bathroom with separate shower and bathtub, a stone top kitchen with good storage and formal dining room. 

Remote lockup garage with internal access
Outside toilet with basin ideal after yard work
Utility space off laundry would make great study
Ducted evaporative cooling and gas points
LAST-MODIFIED:20260425T024326
DTSTAMP:20260425T024326
DTSTART;TZID=Australia/:20190302T120000
LOCATION:1 Kuloomba Street Tamworth NSW 2340
URL:http://www.burkesmyth.com.au/20067475
SEQUENCE:0
END:VEVENT
END:VCALENDAR
