BEGIN:VCALENDAR
VERSION:2.0
PRODID:-//Apple Inc.//iCal 5.0.2//EN
CALSCALE:GREGORIAN
BEGIN:VTIMEZONE
TZID:Australia/
BEGIN:STANDARD
TZOFFSETFROM:+1100
RRULE:FREQ=YEARLY;BYMONTH=4;BYDAY=1SU
DTSTART:20080406T030000
TZNAME:
TZOFFSETTO:+
END:STANDARD
BEGIN:DAYLIGHT
TZOFFSETFROM:+
RRULE:FREQ=YEARLY;BYMONTH=10;BYDAY=1SU
DTSTART:20081005T020000
TZNAME:AEDT
TZOFFSETTO:+1100
END:DAYLIGHT
END:VTIMEZONE
BEGIN:VEVENT
CREATED:20260425T025620
UID:Property20173837Inspection51690588
DTEND;TZID=Australia/:20190302T133000
TRANSP:OPAQUE
SUMMARY:Open For Inspection: 94 Church Street, Tamworth
DESCRIPTION:GOLDEN OPPORTUNITY FOR DEVELOPMENT, RENOVATION OR INVESTMENT! - Occupying a 1012 sqm block and superbly situated only walking distance to the CBD and shopping world, this classic weatherboard home is prime for development, renovation or investment.  Previously rented for $225per week, this quaint home features soaring ceilings, stylishly updated bathroom, single garage and sprawling low-maintenance yard.        Showcasing exceptional scope to enhance and capitalise in a fantastically central location.

- Text "94 Church" to 0416 907 837 for full specification & inclusions
- Prime for development, renovation or investment
- Situated on a 1012 sqm block with approx. 21m frontage
- Spacious lounge room and sunroom with tv pts
- Single garage, covered alfresco area and low-maintenance yard
- Stylishly updated bathroom, modest kitchen with A/C & wood fire
- Previously rented for $225 per week 

LAST-MODIFIED:20260425T025620
DTSTAMP:20260425T025620
DTSTART;TZID=Australia/:20190302T130000
LOCATION:94 Church Street Tamworth NSW 2340
URL:http://www.burkesmyth.com.au/20173837
SEQUENCE:0
END:VEVENT
END:VCALENDAR
