BEGIN:VCALENDAR
VERSION:2.0
PRODID:-//Apple Inc.//iCal 5.0.2//EN
CALSCALE:GREGORIAN
BEGIN:VTIMEZONE
TZID:Australia/
BEGIN:STANDARD
TZOFFSETFROM:+1100
RRULE:FREQ=YEARLY;BYMONTH=4;BYDAY=1SU
DTSTART:20080406T030000
TZNAME:
TZOFFSETTO:+
END:STANDARD
BEGIN:DAYLIGHT
TZOFFSETFROM:+
RRULE:FREQ=YEARLY;BYMONTH=10;BYDAY=1SU
DTSTART:20081005T020000
TZNAME:AEDT
TZOFFSETTO:+1100
END:DAYLIGHT
END:VTIMEZONE
BEGIN:VEVENT
CREATED:20260425T024028
UID:Property20127671Inspection51690591
DTEND;TZID=Australia/:20190302T123000
TRANSP:OPAQUE
SUMMARY:Open For Inspection: 7 Gilbert Drive, Tamworth
DESCRIPTION:IDEAL FIRST HOME OR INVESTMENT PROPERTY! - Located in a quiet location in Westdale this well presented and maintained home is only a short walk to Westdale Primary School and daily conveniences making it ideal for young families. Freshly painted throughout the home offers a bright airy feeling and provides a nice size lounge leading to the meals and area before flowing onto the rear entertaining area that's under cover and the length of the house. Feel comfortable thru the summer months with ducted evaporative cooling and warm in the winter gas point in the lounge. This wonderful home is currently vacant ready for its new owner or tenant to move in straight away.

Brick veneer and tile roof construction with lockup garage and attached carport
Electric roller shutters on the lounge room windows, Built-ins in the bedrooms
Secure pet ready yard with vehicle access, garden shed and and an easterly aspect
Possible rental return of approximately $330-$360 per week.
LAST-MODIFIED:20260425T024028
DTSTAMP:20260425T024028
DTSTART;TZID=Australia/:20190302T120000
LOCATION:7 Gilbert Drive Tamworth NSW 2340
URL:http://www.burkesmyth.com.au/20127671
SEQUENCE:0
END:VEVENT
END:VCALENDAR
