BEGIN:VCALENDAR
VERSION:2.0
PRODID:-//Apple Inc.//iCal 5.0.2//EN
CALSCALE:GREGORIAN
BEGIN:VTIMEZONE
TZID:Australia/
BEGIN:STANDARD
TZOFFSETFROM:+1100
RRULE:FREQ=YEARLY;BYMONTH=4;BYDAY=1SU
DTSTART:20080406T030000
TZNAME:
TZOFFSETTO:+
END:STANDARD
BEGIN:DAYLIGHT
TZOFFSETFROM:+
RRULE:FREQ=YEARLY;BYMONTH=10;BYDAY=1SU
DTSTART:20081005T020000
TZNAME:AEDT
TZOFFSETTO:+1100
END:DAYLIGHT
END:VTIMEZONE
BEGIN:VEVENT
CREATED:20260425T024028
UID:Property20139870Inspection51690593
DTEND;TZID=Australia/:20190302T131500
TRANSP:OPAQUE
SUMMARY:Open For Inspection: 11A Banks Street, Tamworth
DESCRIPTION:AN IDEAL INVESTMENT AND IT'S ALREADY LEASED! - Located in the family friendly suburb Westdale this modern low maintenance home offers designated lounge room, large meals area, open air entertaining area, ducted evaporative cooling and an ensuite in the master bedroom making it appealing to young families or retirees. It is only a short stroll to Summers Supermarket where you'll also find a butcher, bottle shop, post office and hairdresser, and not to far from that is the Westdale primary school. The home has been previously been a rental property with little vacancy and is currently in a lease right now. The home was professionally painted throughout last year and is in great condition top to bottom.

Text "11a Banks" to 0416 907 837 for full specification & inclusions
Tidy brick veneer and tile roof home with single lock up garage
Low maintenance secure yard with garden shed and colorbond fencing
Living areas at either end of the home perfect for families to have their own space
Good all round property with little to do but move straight in
LAST-MODIFIED:20260425T024028
DTSTAMP:20260425T024028
DTSTART;TZID=Australia/:20190302T124500
LOCATION:11A Banks Street Tamworth NSW 2340
URL:http://www.burkesmyth.com.au/20139870
SEQUENCE:0
END:VEVENT
END:VCALENDAR
