BEGIN:VCALENDAR
VERSION:2.0
PRODID:-//Apple Inc.//iCal 5.0.2//EN
CALSCALE:GREGORIAN
BEGIN:VTIMEZONE
TZID:Australia/
BEGIN:STANDARD
TZOFFSETFROM:+1100
RRULE:FREQ=YEARLY;BYMONTH=4;BYDAY=1SU
DTSTART:20080406T030000
TZNAME:
TZOFFSETTO:+
END:STANDARD
BEGIN:DAYLIGHT
TZOFFSETFROM:+
RRULE:FREQ=YEARLY;BYMONTH=10;BYDAY=1SU
DTSTART:20081005T020000
TZNAME:AEDT
TZOFFSETTO:+1100
END:DAYLIGHT
END:VTIMEZONE
BEGIN:VEVENT
CREATED:20260425T023941
UID:Property20155802Inspection51690595
DTEND;TZID=Australia/:20190302T113000
TRANSP:OPAQUE
SUMMARY:Open For Inspection: 533 Armidale Road, Tamworth
DESCRIPTION:UNIQUE HOME ON 3,819M2  IN EAST TAMWORTH! - Welcoming with plenty of space for all the family, positioned on a large 3819m2 parcel of land in East Tamworth. This three bedroom, two bathroom home is ready to occupy!
Freshly painted, featuring polished timber floors throughout, new vinyl kitchen floor, cosy wood fire, new split system and fans.
Single garage or studio and boasting plenty of storage under the rear of the house.
An expansive verandah expands the rear of the house and overlooks the yard which extends down towards the Peel River. 
Inspections welcome, call Karen today! 

- Cosy wood fire
- New Split system and fans
- Polished timber floors
- Spacious country solid timber kitchen
- Loads of storage/workshop
- Large garden shed
- Single garage or studio
- Easy care fully enclosed yard and gardens
- Rear and side access
- Short drive to the CBD

LAST-MODIFIED:20260425T023941
DTSTAMP:20260425T023941
DTSTART;TZID=Australia/:20190302T110000
LOCATION:533 Armidale Road Tamworth NSW 2340
URL:http://www.burkesmyth.com.au/20155802
SEQUENCE:0
END:VEVENT
END:VCALENDAR
