BEGIN:VCALENDAR
VERSION:2.0
PRODID:-//Apple Inc.//iCal 5.0.2//EN
CALSCALE:GREGORIAN
BEGIN:VTIMEZONE
TZID:Australia/
BEGIN:STANDARD
TZOFFSETFROM:+1100
RRULE:FREQ=YEARLY;BYMONTH=4;BYDAY=1SU
DTSTART:20080406T030000
TZNAME:
TZOFFSETTO:+
END:STANDARD
BEGIN:DAYLIGHT
TZOFFSETFROM:+
RRULE:FREQ=YEARLY;BYMONTH=10;BYDAY=1SU
DTSTART:20081005T020000
TZNAME:AEDT
TZOFFSETTO:+1100
END:DAYLIGHT
END:VTIMEZONE
BEGIN:VEVENT
CREATED:20260425T024250
UID:Property20153538Inspection51690596
DTEND;TZID=Australia/:20190302T133000
TRANSP:OPAQUE
SUMMARY:Open For Inspection: 21 Carmichael Avenue, Tamworth
DESCRIPTION:FAMILY LIVING AT ITS BEST, DON'T MISS THIS ONE! - Designed with the family in mind this generous brick home spreads across two levels with multiple living options both inside and out. The main open plan living flows effortlessly onto the upper deck area both capturing picturesque sunset views all year round and provides the ideal space for entertaining with family and friends. Ensuring comfort through the Tamworth seasons is ducted reverse cycle air conditioning, ducted evaporative cooling, gas points, ceiling fans and keeping everything cost effective is the 5kw solar panel system.

Upstairs: Features 3 kids bedrooms with built-in robes, the main bedroom with built-in and ensuite and a beautifully renovated main bathroom. Generous open plan design with family area, meals and kitchen all flowing together with access to the large deck and front balcony. 
living options with an easy care lifestyle.

Downstairs: Large slate tiled games/family room with kitchenette, bar and gas point plus an adjoining undercover paved entertaining area that is well shaded in the afternoons. There is also a bedroom with its own ensuite. This area has the unique lifestyle advantage of nearly being self-contained making it ideal for the home business, family day-care, teenage retreat or guest accommodation for a side income.

This amazing property is located in a quiet position in East Tamworth with a mix of retirees and families close to park, schools and the CBD and really presents the perfect combination of family living options with an easy care lifestyle.

- Spacious living and bedroom options across two levels
- Ducted reverse cycle air, ducted evap air, gas points and ceiling fans
- Generous elevated deck with wonderful views and parking underneath
- Solar panels back to the grid with good returns

LAST-MODIFIED:20260425T024250
DTSTAMP:20260425T024250
DTSTART;TZID=Australia/:20190302T130000
LOCATION:21 Carmichael Avenue Tamworth NSW 2340
URL:http://www.burkesmyth.com.au/20153538
SEQUENCE:0
END:VEVENT
END:VCALENDAR
