BEGIN:VCALENDAR
VERSION:2.0
PRODID:-//Apple Inc.//iCal 5.0.2//EN
CALSCALE:GREGORIAN
BEGIN:VTIMEZONE
TZID:Australia/
BEGIN:STANDARD
TZOFFSETFROM:+1100
RRULE:FREQ=YEARLY;BYMONTH=4;BYDAY=1SU
DTSTART:20080406T030000
TZNAME:
TZOFFSETTO:+
END:STANDARD
BEGIN:DAYLIGHT
TZOFFSETFROM:+
RRULE:FREQ=YEARLY;BYMONTH=10;BYDAY=1SU
DTSTART:20081005T020000
TZNAME:AEDT
TZOFFSETTO:+1100
END:DAYLIGHT
END:VTIMEZONE
BEGIN:VEVENT
CREATED:20260425T023952
UID:Property20119315Inspection51690598
DTEND;TZID=Australia/:20190302T111500
TRANSP:OPAQUE
SUMMARY:Open For Inspection: 19 Craigends Lane, Tamworth
DESCRIPTION:PEACEFUL FAMILY HOME! - Lovingly owned for over 30 years this spacious family home boasts a choice of living and entertaining options while offering scope to enhance. Situated on a 1068sqm corner block allowing for handy yard access the home also includes generous bedrooms, original & immaculate bathrooms and comfortable alfresco area front and back. Located in a peaceful pocket while being close to popular amenities, the property is an ideal option for those seeking a quiet yet convenient lifestyle.

- Choice of living options including formal living, open plan family & sunroom
- Ducted Evap cooling, Split Sys A/C, Wood Fire & ceiling fans throughout
- Spacious outdoor entertaining, 1068 Sqm corner block with possible yard access
- Generous bedrooms all with ceiling fans, main bedroom with ensuite
- Original yet immaculate kitchen with walk-in pantry, ample storage throughout
- Freshly painted throughout and well established gardens 
- Close to Shops, Cafe, Parks, Entertainment Centre & Sporting Precinct 

LAST-MODIFIED:20260425T023952
DTSTAMP:20260425T023952
DTSTART;TZID=Australia/:20190302T104500
LOCATION:19 Craigends Lane Tamworth NSW 2340
URL:http://www.burkesmyth.com.au/20119315
SEQUENCE:0
END:VEVENT
END:VCALENDAR
