BEGIN:VCALENDAR
VERSION:2.0
PRODID:-//Apple Inc.//iCal 5.0.2//EN
CALSCALE:GREGORIAN
BEGIN:VTIMEZONE
TZID:Australia/
BEGIN:STANDARD
TZOFFSETFROM:+1100
RRULE:FREQ=YEARLY;BYMONTH=4;BYDAY=1SU
DTSTART:20080406T030000
TZNAME:
TZOFFSETTO:+
END:STANDARD
BEGIN:DAYLIGHT
TZOFFSETFROM:+
RRULE:FREQ=YEARLY;BYMONTH=10;BYDAY=1SU
DTSTART:20081005T020000
TZNAME:AEDT
TZOFFSETTO:+1100
END:DAYLIGHT
END:VTIMEZONE
BEGIN:VEVENT
CREATED:20260425T023908
UID:Property20175192Inspection51690599
DTEND;TZID=Australia/:20190302T110000
TRANSP:OPAQUE
SUMMARY:Open For Inspection: 131 Calala Lane, Tamworth
DESCRIPTION:LOW MAINTENANCE HOME ON SPACIOUS EASY CARE BLOCK! - Set on a 1101m2 this one owner home is the perfect down sizer or first home property for those seeking a low maintenance setting with space between you and the neighbours. Embracing an open plan design the living includes a family space, dining and sitting area that flows perfectly onto the rear under cover deck that captures a northerly aspect that over looks the adjoining park to the distant hills. The home is immaculately presented and features well sized bedrooms with built-in wardrobes while the master includes ensuite and walk-in robe. In addition to the double lock up remote garage you have vehicle access thru the park right to the rear gate making it easy for yard maintenance and friends and family to visit.

Brick veneer and steel frame home with one owner
Impeccable condition throughout with great storage
Functional kitchen with quality appliances and pantry
Reverse cycle split system and well insulated
LAST-MODIFIED:20260425T023908
DTSTAMP:20260425T023908
DTSTART;TZID=Australia/:20190302T103000
LOCATION:131 Calala Lane Tamworth NSW 2340
URL:http://www.burkesmyth.com.au/20175192
SEQUENCE:0
END:VEVENT
END:VCALENDAR
