BEGIN:VCALENDAR
VERSION:2.0
PRODID:-//Apple Inc.//iCal 5.0.2//EN
CALSCALE:GREGORIAN
BEGIN:VTIMEZONE
TZID:Australia/
BEGIN:STANDARD
TZOFFSETFROM:+1100
RRULE:FREQ=YEARLY;BYMONTH=4;BYDAY=1SU
DTSTART:20080406T030000
TZNAME:
TZOFFSETTO:+
END:STANDARD
BEGIN:DAYLIGHT
TZOFFSETFROM:+
RRULE:FREQ=YEARLY;BYMONTH=10;BYDAY=1SU
DTSTART:20081005T020000
TZNAME:AEDT
TZOFFSETTO:+1100
END:DAYLIGHT
END:VTIMEZONE
BEGIN:VEVENT
CREATED:20260425T023907
UID:Property20165357Inspection51690601
DTEND;TZID=Australia/:20190302T124500
TRANSP:OPAQUE
SUMMARY:Open For Inspection: 4 Milpara Court, Tamworth
DESCRIPTION:PEACEFUL FAMILY RETREAT! - Peacefully positioned in a quiet cul-de-sac this modest family home features a choice of living options which include a comfortable lounge/dining area and open plan family room.  The kitchen is centrally located and offers ample storage and bench space. The bedrooms are all gernerous in size, with main boasting ensuite and walk in robe. An expansive outdoor entertaining area adjoins the double garage with drive through access and overlooks a spacious, low-maintenance yard.  

- Choice of living areas that include lounge/dining & open plan family room
- All bedrooms are generous in size, main include ensuite & walk-in robe
- Stylish kitchen with ample storage and bench space
- Expansive outdoor entertaining area overlooks low-maintenance yard
- Ducted Evap A/C & Gas pts for year round comfort
- Double remote garage with drive through access
- Located in quiet cul-de-sac, close to parks and moments to schools.

LAST-MODIFIED:20260425T023907
DTSTAMP:20260425T023907
DTSTART;TZID=Australia/:20190302T121500
LOCATION:4 Milpara Court Tamworth NSW 2340
URL:http://www.burkesmyth.com.au/20165357
SEQUENCE:0
END:VEVENT
END:VCALENDAR
