BEGIN:VCALENDAR
VERSION:2.0
PRODID:-//Apple Inc.//iCal 5.0.2//EN
CALSCALE:GREGORIAN
BEGIN:VTIMEZONE
TZID:Australia/
BEGIN:STANDARD
TZOFFSETFROM:+1100
RRULE:FREQ=YEARLY;BYMONTH=4;BYDAY=1SU
DTSTART:20080406T030000
TZNAME:
TZOFFSETTO:+
END:STANDARD
BEGIN:DAYLIGHT
TZOFFSETFROM:+
RRULE:FREQ=YEARLY;BYMONTH=10;BYDAY=1SU
DTSTART:20081005T020000
TZNAME:AEDT
TZOFFSETTO:+1100
END:DAYLIGHT
END:VTIMEZONE
BEGIN:VEVENT
CREATED:20260425T024032
UID:Property20166588Inspection51690602
DTEND;TZID=Australia/:20190302T123000
TRANSP:OPAQUE
SUMMARY:Open For Inspection: 2 Wren Close, Tamworth
DESCRIPTION:MODERN COMFORT & CONVENIENCE! - Located in a quiet position in Calala with a great outlook lies an opportunity to obtain an immaculately presented low maintenance family home or down sizer. Offering three bedrooms all with built-ins, master with ensuite, open plan kitchen and meals with separate living. Freshly painted inside and out, newly painted & sealed garage floor & roller doors. Surrounded by quality homes in a quiet family friendly locale.
If your looking for that easy care lifestyle just minutes to Shops, Doctors and Schools, call me today, inspections welcome!

Ready to occupy!


- Master bedroom with ensuite
- Modern tiled open plan kitchen dining
- New dishwasher 
- Split system
- Easy care low maintenance
- Fully fenced 
- Rainwater tank and pressure pump
- Double remote garage, internal and rear access to the back yard 
- Conveniently located close to Schools, Shopping Centre, Doctors and all conveniences

LAST-MODIFIED:20260425T024032
DTSTAMP:20260425T024032
DTSTART;TZID=Australia/:20190302T120000
LOCATION:2 Wren Close Tamworth NSW 2340
URL:http://www.burkesmyth.com.au/20166588
SEQUENCE:0
END:VEVENT
END:VCALENDAR
