BEGIN:VCALENDAR
VERSION:2.0
PRODID:-//Apple Inc.//iCal 5.0.2//EN
CALSCALE:GREGORIAN
BEGIN:VTIMEZONE
TZID:Australia/
BEGIN:STANDARD
TZOFFSETFROM:+1100
RRULE:FREQ=YEARLY;BYMONTH=4;BYDAY=1SU
DTSTART:20080406T030000
TZNAME:
TZOFFSETTO:+
END:STANDARD
BEGIN:DAYLIGHT
TZOFFSETFROM:+
RRULE:FREQ=YEARLY;BYMONTH=10;BYDAY=1SU
DTSTART:20081005T020000
TZNAME:AEDT
TZOFFSETTO:+1100
END:DAYLIGHT
END:VTIMEZONE
BEGIN:VEVENT
CREATED:20260425T023943
UID:Property20134418Inspection51690610
DTEND;TZID=Australia/:20190302T103000
TRANSP:OPAQUE
SUMMARY:Open For Inspection: 21 Nicole Place, Tamworth
DESCRIPTION:PEACEFUL COUNTRY RETREAT!! - Nestled in a picturesque valley,  this inviting homestead has recently been modernised and includes multiple living options, stunning bathroom updates and sprawling verandas enjoying the leafy valley outlook.  The master suite is oversized while the remaining bedrooms are generous in size.  A separate double bay shed is currently set up as a studio and situated on 5.8acres, the property is the perfect country retreat only a short drive from town.
- Extremely motivated owner that has found their next home and wants to sell!
-Cosy living area with wood fire, adjoining study area and French doors
-Oversized master suite, guest room with stunning ensuite.
-Stylishly updated main bathroom with dual access to bedroom
-Sprawling front and rear verandah's with scenic valley views.
-5.8 Acres high set lifestyle block with dual access drive ways,
-Double carport plus dble bay shed/studio with kitchenette. 
-Peaceful location only short drive to schools, shops and town.
-Tank water plus community bore

LAST-MODIFIED:20260425T023943
DTSTAMP:20260425T023943
DTSTART;TZID=Australia/:20190302T094500
LOCATION:21 Nicole Place Tamworth NSW 2340
URL:http://www.burkesmyth.com.au/20134418
SEQUENCE:0
END:VEVENT
END:VCALENDAR
