BEGIN:VCALENDAR
VERSION:2.0
PRODID:-//Apple Inc.//iCal 5.0.2//EN
CALSCALE:GREGORIAN
BEGIN:VTIMEZONE
TZID:Australia/
BEGIN:STANDARD
TZOFFSETFROM:+1100
RRULE:FREQ=YEARLY;BYMONTH=4;BYDAY=1SU
DTSTART:20080406T030000
TZNAME:
TZOFFSETTO:+
END:STANDARD
BEGIN:DAYLIGHT
TZOFFSETFROM:+
RRULE:FREQ=YEARLY;BYMONTH=10;BYDAY=1SU
DTSTART:20081005T020000
TZNAME:AEDT
TZOFFSETTO:+1100
END:DAYLIGHT
END:VTIMEZONE
BEGIN:VEVENT
CREATED:20260425T024106
UID:Property20073918Inspection51690627
DTEND;TZID=Australia/:20190302T103000
TRANSP:OPAQUE
SUMMARY:Open For Inspection: 9 Lorikeet Drive, Tamworth
DESCRIPTION:JUST LIKE NEW! - Whether you're a first home buyer, investor or downsizer this thoughtfully designed home is sure to please. Located in the ever so popular suburb of Calala, it offers all the amenities you need while being a short drive to the CBD. Featuring 4 large bedrooms, main including ensuite and walk-in robe,  tiled open plan lounge/ dinning, modern galley style kitchen with stone benchtops, separate home theatre, and covered alfresco. With no compromises on quality, you must come and inspect to appreciate all that is on offer.

- Open plan lounge/dining area opening onto outdoor alfresco 
- Modern galley style kitchen, free standing gas oven and dishwasher 
- Double garage with remote controlled roller door and internal access
- Ducted reverse cycle air-conditioning  throughout 


LAST-MODIFIED:20260425T024106
DTSTAMP:20260425T024106
DTSTART;TZID=Australia/:20190302T100000
LOCATION:9 Lorikeet Drive Tamworth NSW 2340
URL:http://www.burkesmyth.com.au/20073918
SEQUENCE:0
END:VEVENT
END:VCALENDAR
