BEGIN:VCALENDAR
VERSION:2.0
PRODID:-//Apple Inc.//iCal 5.0.2//EN
CALSCALE:GREGORIAN
BEGIN:VTIMEZONE
TZID:Australia/
BEGIN:STANDARD
TZOFFSETFROM:+1100
RRULE:FREQ=YEARLY;BYMONTH=4;BYDAY=1SU
DTSTART:20080406T030000
TZNAME:
TZOFFSETTO:+
END:STANDARD
BEGIN:DAYLIGHT
TZOFFSETFROM:+
RRULE:FREQ=YEARLY;BYMONTH=10;BYDAY=1SU
DTSTART:20081005T020000
TZNAME:AEDT
TZOFFSETTO:+1100
END:DAYLIGHT
END:VTIMEZONE
BEGIN:VEVENT
CREATED:20260425T025556
UID:Property20170573Inspection51690628
DTEND;TZID=Australia/:20190302T113000
TRANSP:OPAQUE
SUMMARY:Open For Inspection: 1 Chardonnay Drive, Tamworth
DESCRIPTION:MODERN EASY CARE HOME IN PEACEFUL LOCALE! - Positioned on a 755m2 parcel of land in one of Tamworth's most popular estates is this near new four bedroom home perfect for first and second home buyers or investors alike seeking a modern  easy care home with multiple living options. Sprawling across the wide street frontage all four bedrooms and lounge room capture a north facing aspect providing an abundance of natural light. On either side of the galley style kitchen is a dining area and family room that both open onto the 11.5m x 3m under cover alfresco ready for any family and friends gathering. The kitchen features a 900mm free standing Euromaid oven with gas cooktop, Miele dishwasher, plumbing in the large fridge space, stone benchtops and a breakfast bar  for two.

Text "1 Chardonnay" to 0416 907 837 for full specification & inclusions
Master bedroom boasts walk-in wardrobe and ensuite bathroom
Living options include dining, family, lounge and undercover alfresco
Extra long single lockup garage with storage and drive through access
North front facing block with secure yard and potential for more yard access
Under 2 years old the home presents a great option for those not looking to build
LAST-MODIFIED:20260425T025556
DTSTAMP:20260425T025556
DTSTART;TZID=Australia/:20190302T110000
LOCATION:1 Chardonnay Drive Tamworth NSW 2340
URL:http://www.burkesmyth.com.au/20170573
SEQUENCE:0
END:VEVENT
END:VCALENDAR
