BEGIN:VCALENDAR
VERSION:2.0
PRODID:-//Apple Inc.//iCal 5.0.2//EN
CALSCALE:GREGORIAN
BEGIN:VTIMEZONE
TZID:Australia/
BEGIN:STANDARD
TZOFFSETFROM:+1100
RRULE:FREQ=YEARLY;BYMONTH=4;BYDAY=1SU
DTSTART:20080406T030000
TZNAME:
TZOFFSETTO:+
END:STANDARD
BEGIN:DAYLIGHT
TZOFFSETFROM:+
RRULE:FREQ=YEARLY;BYMONTH=10;BYDAY=1SU
DTSTART:20081005T020000
TZNAME:AEDT
TZOFFSETTO:+1100
END:DAYLIGHT
END:VTIMEZONE
BEGIN:VEVENT
CREATED:20260425T024031
UID:Property20144635Inspection51690640
DTEND;TZID=Australia/:20190302T120000
TRANSP:OPAQUE
SUMMARY:Open For Inspection: 8 Glen Alpha Close, Tamworth
DESCRIPTION:A SHOWCASE OF ENTERTAINING INSIDE & OUT! - Designed with entertaining in mind and spanning over three expansive levels, this impeccable home features a choice of living and entertaining options both inside and out.  Also including a stylishly updated kitchen with Stone Benchtops, Reverse Cycle Ducted Air cond and plantation shutters throughout, the home is peacefully posiotned in a quiet pocket only walking distance to parks, and moments to Longyard Golf Course and Sporting Precinct.  Immediately impressive the property is sure to surpass expectations.  

Recent Price Alignment in line with buyer feedback and owner's motivation
- Perfect family layout with a choice of three spacious living areas 
- Reverse Cycle Ducted A/C, Ducted Vacuum System, Plantation shutters, Gas pts throughout
- All bedrooms with built-ins, master with walk-in robe and ensuite
- Choice of entertaining and relaxing area outdoors plus dble gate for vehicle, caravan access
- Located in a peaceful pocket within walking distance to parks & moments to Longyard Golf Course

LAST-MODIFIED:20260425T024031
DTSTAMP:20260425T024031
DTSTART;TZID=Australia/:20190302T113000
LOCATION:8 Glen Alpha Close Tamworth NSW 2340
URL:http://www.burkesmyth.com.au/20144635
SEQUENCE:0
END:VEVENT
END:VCALENDAR
