BEGIN:VCALENDAR
VERSION:2.0
PRODID:-//Apple Inc.//iCal 5.0.2//EN
CALSCALE:GREGORIAN
BEGIN:VTIMEZONE
TZID:Australia/
BEGIN:STANDARD
TZOFFSETFROM:+1100
RRULE:FREQ=YEARLY;BYMONTH=4;BYDAY=1SU
DTSTART:20080406T030000
TZNAME:
TZOFFSETTO:+
END:STANDARD
BEGIN:DAYLIGHT
TZOFFSETFROM:+
RRULE:FREQ=YEARLY;BYMONTH=10;BYDAY=1SU
DTSTART:20081005T020000
TZNAME:AEDT
TZOFFSETTO:+1100
END:DAYLIGHT
END:VTIMEZONE
BEGIN:VEVENT
CREATED:20260425T024031
UID:Property20153181Inspection51690650
DTEND;TZID=Australia/:20190302T110000
TRANSP:OPAQUE
SUMMARY:Open For Inspection: 3 Riesling Road, Tamworth
DESCRIPTION:THE WAIT IS FINALLY OVER! - Fresh modern living, a sense of spaciousness and an easy location places this property in a highly sought after category. Once inside this home you will feel spoilt with the open planned living, quality fixtures and fittings and the stylish features of the kitchen and bathroom. This modern and alluring four bedroom home is the epitome of style and spacious living for all. An abundance of natural light flows throughout the home complimenting the modern colour palette to perfection. The home theatre room, family room and under roof alfresco all feature around the sleek and stylish kitchen. This is one of those homes where your dreams unfold before your eyes; and inspection is encouraged.

- Located in Windmill Hill Estate
- Generous master suite with walk-in-robe and ensuite
- Ducted reverse cycle and plantation shutters offers privacy and comfort
- Stone bench tops and stainless steel appliances show quality and class
- This is a beautiful family home, situated in a great location

LAST-MODIFIED:20260425T024031
DTSTAMP:20260425T024031
DTSTART;TZID=Australia/:20190302T103000
LOCATION:3 Riesling Road Tamworth NSW 2340
URL:http://www.burkesmyth.com.au/20153181
SEQUENCE:0
END:VEVENT
END:VCALENDAR
