BEGIN:VCALENDAR
VERSION:2.0
PRODID:-//Apple Inc.//iCal 5.0.2//EN
CALSCALE:GREGORIAN
BEGIN:VTIMEZONE
TZID:Australia/
BEGIN:STANDARD
TZOFFSETFROM:+1100
RRULE:FREQ=YEARLY;BYMONTH=4;BYDAY=1SU
DTSTART:20080406T030000
TZNAME:
TZOFFSETTO:+
END:STANDARD
BEGIN:DAYLIGHT
TZOFFSETFROM:+
RRULE:FREQ=YEARLY;BYMONTH=10;BYDAY=1SU
DTSTART:20081005T020000
TZNAME:AEDT
TZOFFSETTO:+1100
END:DAYLIGHT
END:VTIMEZONE
BEGIN:VEVENT
CREATED:20260425T023954
UID:Property20119971Inspection51690662
DTEND;TZID=Australia/:20190302T103000
TRANSP:OPAQUE
SUMMARY:Open For Inspection: 2 Palmer Drive, Tamworth
DESCRIPTION:FAMILY SIZED OPPORTUNITY! - Designed for entertaining inside and out, this family sized home offers an enticing choice of living options that include sizable Rumpus room, living & dining rooms along with an open plan family room.  A stylishly updated kitchen with premium 900mm freestanding oven is situated at the heart of the home and incorporates the expansive outdoor entertaining deck via a folding servery window.  The bedrooms are all generous in size and include built-in robes while the master retreat features a walk through robe into an updated ensuite.  Sprawling over 6879sqm of land the property also features a double bay shed plus double carport, large outdoor fireplace and a separate paddock at the rear ideal for a pony.  Located in peaceful Kingswood only a short drive to town, the home is the perfect opportunity for those looking for space to move both inside and out.      

- Choice of three living options including rumpus room, lounge and open plan family room.
- Stylishly updated kitchen with premium freestanding oven and servery to alfresco
- All bedrooms with built-ins, master with walk through robe to updated ensuite.
- Expansive outdoor entertaining deck area overlooking child friendly yard
- Solar power, Gas log fire, Split System A/C for year round comfort
- Double bay shed plus double carport, separate paddock at rear
- Located in peaceful Kingswood only a short drive to town


LAST-MODIFIED:20260425T023954
DTSTAMP:20260425T023954
DTSTART;TZID=Australia/:20190302T100000
LOCATION:2 Palmer Drive Tamworth NSW 2340
URL:http://www.burkesmyth.com.au/20119971
SEQUENCE:0
END:VEVENT
END:VCALENDAR
