BEGIN:VCALENDAR
VERSION:2.0
PRODID:-//Apple Inc.//iCal 5.0.2//EN
CALSCALE:GREGORIAN
BEGIN:VTIMEZONE
TZID:Australia/
BEGIN:STANDARD
TZOFFSETFROM:+1100
RRULE:FREQ=YEARLY;BYMONTH=4;BYDAY=1SU
DTSTART:20080406T030000
TZNAME:
TZOFFSETTO:+
END:STANDARD
BEGIN:DAYLIGHT
TZOFFSETFROM:+
RRULE:FREQ=YEARLY;BYMONTH=10;BYDAY=1SU
DTSTART:20081005T020000
TZNAME:AEDT
TZOFFSETTO:+1100
END:DAYLIGHT
END:VTIMEZONE
BEGIN:VEVENT
CREATED:20260425T024124
UID:Property20063363Inspection51690674
DTEND;TZID=Australia/:20190302T143000
TRANSP:OPAQUE
SUMMARY:Open For Inspection: 761 Daruka Road, Tamworth
DESCRIPTION:ENTICING COUNTRY COMFORTS! - Peacefully positioned and enjoying a sunny north aspect, this stylish family homestead is situated on 10.65 acres and offers the perfect combination of country living both inside and out.  Immediately warm and inviting, the home offers a choice of living options including a striking sunken lounge room and casual family/dining area which opens to a stunningly updated kitchen.  A sweeping verandah surrounds the home and overlooks the four paddocks, expansive 18m x 7.5m shed and importantly, a surplus of water that includes community bore and three rain water tanks.  A 5kw solar system ensures the home is efficient while a wood fire, gas points and two split systems create comfort all year round.  Situated in popular Daruka, the home is only minutes to town and ideal option for those seeking country comforts within close proximity.

- Text "761 Daruka" to 0416 907 837 for full specification & inclusions
- Flexible family layout & generous room sizes
- Stylishly updated kitchen with stone tops & ample storage
- Striking sunken lounge room with cosy wood fire
- Wrap around verandah overlooks the 4 paddocks all with water
- 18 x 7.5m shed
- Surplus of water with community bore & 3x rainwater tanks
- 5th bedroom/study, 5kw solar system, Dble carport for undercover parking
- Close proximity to town and popular area 
- Main bedroom with ensuite and ample storage


LAST-MODIFIED:20260425T024124
DTSTAMP:20260425T024124
DTSTART;TZID=Australia/:20190302T140000
LOCATION:761 Daruka Road Tamworth NSW 2340
URL:http://www.burkesmyth.com.au/20063363
SEQUENCE:0
END:VEVENT
END:VCALENDAR
