BEGIN:VCALENDAR
VERSION:2.0
PRODID:-//Apple Inc.//iCal 5.0.2//EN
CALSCALE:GREGORIAN
BEGIN:VTIMEZONE
TZID:Australia/
BEGIN:STANDARD
TZOFFSETFROM:+1100
RRULE:FREQ=YEARLY;BYMONTH=4;BYDAY=1SU
DTSTART:20080406T030000
TZNAME:
TZOFFSETTO:+
END:STANDARD
BEGIN:DAYLIGHT
TZOFFSETFROM:+
RRULE:FREQ=YEARLY;BYMONTH=10;BYDAY=1SU
DTSTART:20081005T020000
TZNAME:AEDT
TZOFFSETTO:+1100
END:DAYLIGHT
END:VTIMEZONE
BEGIN:VEVENT
CREATED:20260425T025251
UID:Property20167446Inspection51690678
DTEND;TZID=Australia/:20190302T140000
TRANSP:OPAQUE
SUMMARY:Open For Inspection: 69 Warrah Drive, Tamworth
DESCRIPTION:BRAND NEW HOME WITH HIGH-END FEATURES - Imagine the pleasure of living with your family in this stunning Brand New residence loaded with high-end finishes throughout and situated in the peaceful "Red Bank Estate" surrounded by many similar quality homes? Well there's no need to imagine anymore. Only just completed ready to move into now is this amazing four bedroom home with stunning kitchen that includes a butler's pantry, beautiful stone bench-tops and a serving window to the adjoining alfresco area. The master bedroom provides the ultimate sanctuary with spacious walk-in robe next to the large ensuite with double shower recess and airy louver windows. The main open plan living dining area is generous and provides the ideal space for entertaining and everyday family living. In addition at the end of the open living is the separate home theatre room or formal lounge for a little quiet time.

Ducted and zoned reverse cycle air conditioning though out
3 way bathroom with custom vanity and loads of storage
Mudroom area and Built-in study space perfect for kids or executives
Well sized bedrooms all with built-in storage, additional built-in linen storage
A generous home only a short stroll to the estate community park area

LAST-MODIFIED:20260425T025251
DTSTAMP:20260425T025251
DTSTART;TZID=Australia/:20190302T133000
LOCATION:69 Warrah Drive Tamworth NSW 2340
URL:http://www.burkesmyth.com.au/20167446
SEQUENCE:0
END:VEVENT
END:VCALENDAR
