BEGIN:VCALENDAR
VERSION:2.0
PRODID:-//Apple Inc.//iCal 5.0.2//EN
CALSCALE:GREGORIAN
BEGIN:VTIMEZONE
TZID:Australia/
BEGIN:STANDARD
TZOFFSETFROM:+1100
RRULE:FREQ=YEARLY;BYMONTH=4;BYDAY=1SU
DTSTART:20080406T030000
TZNAME:
TZOFFSETTO:+
END:STANDARD
BEGIN:DAYLIGHT
TZOFFSETFROM:+
RRULE:FREQ=YEARLY;BYMONTH=10;BYDAY=1SU
DTSTART:20081005T020000
TZNAME:AEDT
TZOFFSETTO:+1100
END:DAYLIGHT
END:VTIMEZONE
BEGIN:VEVENT
CREATED:20260425T023941
UID:Property254590Inspection51691362
DTEND;TZID=Australia/:19700101T000000
TRANSP:OPAQUE
SUMMARY:Open For Inspection: 10/337 Bridge Road, WEST MACKAY
DESCRIPTION:FULLY RENOVATED MODERN UNIT - Upmarket Modern 2 bedroom townhouses located in the centre of West Mackay.
Low cost, low maintenance living with sustainability being encouraged by all residents with access to community garden facilities for the growing of your own herbs, fruits and vegetables.
The centrally located townhouses are within easy walking distance to the Fourways Shopping Precinct which includes supermarket, boutique shops, medical and food facilities.
Close to Mackay Base Hospital, industrial areas and only a short drive to the city centre.
 
Features -
*  air-conditioned
* 2 spacious built in rooms
* Ceiling fans throughout
* Spacious living/lounge area
* Modern stylish kitchen with island bench and dishwasher included 
* Stylish functional bathroom 
* Internal laundry 
* Front and rear private courtyards with shed for storage 
* Vinyl Plank flooring throughout for easy clean and comfort
* Security screens on all windows and doors 
* Single carport
* Lease terms flexible
 
Get in now to secure your lease before the prices rise. 
Potential for a care taker role living on the premises
SPECIAL CONDITION - $520.00 PER WEEK UNTIL 16/8/26 THEN $550.00 PER WEEK 

Disclaimer; The Agent does not give any warranty as to errors or omissions, if any, in these particulars, which they believe to be accurate when compiled.
LAST-MODIFIED:20260425T023941
DTSTAMP:20260425T023941
DTSTART;TZID=Australia/:19700101T100000
LOCATION:10/337 Bridge Road WEST MACKAY QLD 4740
URL:http://www.hughreilly.com.au/254590
SEQUENCE:0
END:VEVENT
END:VCALENDAR
